BEGIN:VCALENDAR
VERSION:2.0
PRODID:-//Greater Faith Community Church - ECPv6.15.20//NONSGML v1.0//EN
CALSCALE:GREGORIAN
METHOD:PUBLISH
X-ORIGINAL-URL:https://greaterfaithcc.org
X-WR-CALDESC:Events for Greater Faith Community Church
REFRESH-INTERVAL;VALUE=DURATION:PT1H
X-Robots-Tag:noindex
X-PUBLISHED-TTL:PT1H
BEGIN:VTIMEZONE
TZID:America/Detroit
BEGIN:DAYLIGHT
TZOFFSETFROM:-0500
TZOFFSETTO:-0400
TZNAME:EDT
DTSTART:20180311T070000
END:DAYLIGHT
BEGIN:STANDARD
TZOFFSETFROM:-0400
TZOFFSETTO:-0500
TZNAME:EST
DTSTART:20181104T060000
END:STANDARD
BEGIN:DAYLIGHT
TZOFFSETFROM:-0500
TZOFFSETTO:-0400
TZNAME:EDT
DTSTART:20190310T070000
END:DAYLIGHT
BEGIN:STANDARD
TZOFFSETFROM:-0400
TZOFFSETTO:-0500
TZNAME:EST
DTSTART:20191103T060000
END:STANDARD
BEGIN:DAYLIGHT
TZOFFSETFROM:-0500
TZOFFSETTO:-0400
TZNAME:EDT
DTSTART:20200308T070000
END:DAYLIGHT
BEGIN:STANDARD
TZOFFSETFROM:-0400
TZOFFSETTO:-0500
TZNAME:EST
DTSTART:20201101T060000
END:STANDARD
BEGIN:DAYLIGHT
TZOFFSETFROM:-0500
TZOFFSETTO:-0400
TZNAME:EDT
DTSTART:20210314T070000
END:DAYLIGHT
BEGIN:STANDARD
TZOFFSETFROM:-0400
TZOFFSETTO:-0500
TZNAME:EST
DTSTART:20211107T060000
END:STANDARD
END:VTIMEZONE
BEGIN:VEVENT
DTSTART;TZID=America/Detroit:20200308T010000
DTEND;TZID=America/Detroit:20200308T030000
DTSTAMP:20260424T141844
CREATED:20200115T013616Z
LAST-MODIFIED:20200115T013841Z
UID:544-1583629200-1583636400@greaterfaithcc.org
SUMMARY:DAYLIGHT SAVINGS BEGINS
DESCRIPTION:
URL:https://greaterfaithcc.org/event/daylight-savings-begins-2/
END:VEVENT
BEGIN:VEVENT
DTSTART;TZID=America/Detroit:20200226T180000
DTEND;TZID=America/Detroit:20200226T180000
DTSTAMP:20260424T141844
CREATED:20200115T013101Z
LAST-MODIFIED:20200115T013101Z
UID:541-1582740000-1582740000@greaterfaithcc.org
SUMMARY:Ash Wednesday Service - @ Casco UMC - Pastor Marcia Tucker speaking
DESCRIPTION:
URL:https://greaterfaithcc.org/event/ash-wednesday-service-casco-umc-pastor-marcia-tucker-speaking/
END:VEVENT
BEGIN:VEVENT
DTSTART;TZID=America/Detroit:20200222T093000
DTEND;TZID=America/Detroit:20200222T093000
DTSTAMP:20260424T141844
CREATED:20200102T064423Z
LAST-MODIFIED:20200115T013435Z
UID:524-1582363800-1582363800@greaterfaithcc.org
SUMMARY:Route 66 Men's Fellowship Breakfast - Greater Faith Community Church - 9:30 am
DESCRIPTION:
URL:https://greaterfaithcc.org/event/route-66-mens-fellowship-breakfast-greater-faith-community-church-930-am-3/
END:VEVENT
BEGIN:VEVENT
DTSTART;TZID=America/Detroit:20200210T150000
DTEND;TZID=America/Detroit:20200210T160000
DTSTAMP:20260424T141844
CREATED:20200115T012846Z
LAST-MODIFIED:20200115T012846Z
UID:539-1581346800-1581350400@greaterfaithcc.org
SUMMARY:Hungry for Christ Food Pantry - 3-4pm @ Casco UMC
DESCRIPTION:
URL:https://greaterfaithcc.org/event/hungry-for-christ-food-pantry-3-4pm-casco-umc/
END:VEVENT
BEGIN:VEVENT
DTSTART;TZID=America/Detroit:20200209T100000
DTEND;TZID=America/Detroit:20200209T100000
DTSTAMP:20260424T141844
CREATED:20200115T012659Z
LAST-MODIFIED:20200115T013316Z
UID:536-1581242400-1581242400@greaterfaithcc.org
SUMMARY:Business Meeting - 10 am
DESCRIPTION:
URL:https://greaterfaithcc.org/event/business-meeting-10-am/
END:VEVENT
BEGIN:VEVENT
DTSTART;TZID=America/Detroit:20200125T043000
DTEND;TZID=America/Detroit:20200125T043000
DTSTAMP:20260424T141844
CREATED:20200102T064151Z
LAST-MODIFIED:20200102T064151Z
UID:522-1579926600-1579926600@greaterfaithcc.org
SUMMARY:Route 66 Men's Fellowship Breakfast - @ Kibbie Christian Reformed Church - 9:30 am
DESCRIPTION:
URL:https://greaterfaithcc.org/event/route-66-mens-fellowship-breakfast-kibbie-christian-reformed-church-930-am-3/
END:VEVENT
BEGIN:VEVENT
DTSTART;TZID=America/Detroit:20200113T130000
DTEND;TZID=America/Detroit:20200113T163000
DTSTAMP:20260424T141844
CREATED:20200102T020236Z
LAST-MODIFIED:20200102T020236Z
UID:526-1578920400-1578933000@greaterfaithcc.org
SUMMARY:Mobile Food Pantry @ Casco United Methodist Church - 3-4pm - GFCC Cleanup
DESCRIPTION:
URL:https://greaterfaithcc.org/event/mobile-food-pantry-casco-united-methodist-church-3-4pm-gfcc-cleanup/
END:VEVENT
BEGIN:VEVENT
DTSTART;TZID=America/Detroit:20200112T073000
DTEND;TZID=America/Detroit:20200112T073000
DTSTAMP:20260424T141844
CREATED:20200102T063326Z
LAST-MODIFIED:20200102T063326Z
UID:519-1578814200-1578814200@greaterfaithcc.org
SUMMARY:Annual Business Meeting - Immediately after Morning Service
DESCRIPTION:
URL:https://greaterfaithcc.org/event/annual-business-meeting-immediately-after-morning-service/
END:VEVENT
BEGIN:VEVENT
DTSTART;TZID=America/Detroit:20191208T050000
DTEND;TZID=America/Detroit:20191208T050000
DTSTAMP:20260424T141844
CREATED:20181231T033400Z
LAST-MODIFIED:20181231T033400Z
UID:402-1575781200-1575781200@greaterfaithcc.org
SUMMARY:Board of Trustee Meeting @ 10 am
DESCRIPTION:
URL:https://greaterfaithcc.org/event/board-of-trustee-meeting-10-am-7/
END:VEVENT
BEGIN:VEVENT
DTSTART;TZID=America/Detroit:20191110T050000
DTEND;TZID=America/Detroit:20191110T050000
DTSTAMP:20260424T141844
CREATED:20181231T033456Z
LAST-MODIFIED:20181231T033456Z
UID:403-1573362000-1573362000@greaterfaithcc.org
SUMMARY:Board of Trustee Meeting @ 10 am
DESCRIPTION:
URL:https://greaterfaithcc.org/event/board-of-trustee-meeting-10-am-8/
END:VEVENT
BEGIN:VEVENT
DTSTART;TZID=America/Detroit:20191026T043000
DTEND;TZID=America/Detroit:20191026T090000
DTSTAMP:20260424T141844
CREATED:20190926T034301Z
LAST-MODIFIED:20190926T034301Z
UID:513-1572064200-1572080400@greaterfaithcc.org
SUMMARY:Route 66 Women's Fellowship Fall Conference @ Greater Faith Community Church
DESCRIPTION:This year our conference will be back at Greater Faith Community Church in the fellowship hall.  Please RSVP to 269-637-5697 prior to October 20\, 2019 if you are able to join us.
URL:https://greaterfaithcc.org/event/route-66-womens-fellowship-fall-conference-greater-faith-community-church/
END:VEVENT
BEGIN:VEVENT
DTSTART;TZID=America/Detroit:20191013T060000
DTEND;TZID=America/Detroit:20191013T060000
DTSTAMP:20260424T141844
CREATED:20181231T033538Z
LAST-MODIFIED:20181231T033538Z
UID:404-1570946400-1570946400@greaterfaithcc.org
SUMMARY:Board of Trustee Meeting @ 10 am
DESCRIPTION:
URL:https://greaterfaithcc.org/event/board-of-trustee-meeting-10-am-9/
END:VEVENT
BEGIN:VEVENT
DTSTART;TZID=America/Detroit:20190928T053000
DTEND;TZID=America/Detroit:20190928T053000
DTSTAMP:20260424T141844
CREATED:20181231T042312Z
LAST-MODIFIED:20181231T042312Z
UID:433-1569648600-1569648600@greaterfaithcc.org
SUMMARY:ROUTE 66 - Men's Fellowship Breakfast - 9:30 am
DESCRIPTION:
URL:https://greaterfaithcc.org/event/route-66-mens-fellowship-breakfast-930-am-4/
END:VEVENT
BEGIN:VEVENT
DTSTART;TZID=America/Detroit:20190918T130000
DTEND;TZID=America/Detroit:20190918T130000
DTSTAMP:20260424T141844
CREATED:20181231T042030Z
LAST-MODIFIED:20181231T042030Z
UID:431-1568811600-1568811600@greaterfaithcc.org
SUMMARY:ROUTE 66 Women's Fellowship Meeting @ GFCC - 5pm
DESCRIPTION:
URL:https://greaterfaithcc.org/event/route-66-womens-fellowship-meeting-gfcc-5pm-3/
END:VEVENT
BEGIN:VEVENT
DTSTART;TZID=America/Detroit:20190909T110000
DTEND;TZID=America/Detroit:20190909T120000
DTSTAMP:20260424T141844
CREATED:20181231T041654Z
LAST-MODIFIED:20181231T041654Z
UID:430-1568026800-1568030400@greaterfaithcc.org
SUMMARY:Food Pantry @ Casco UMC - 3pm - 4pm
DESCRIPTION:
URL:https://greaterfaithcc.org/event/food-pantry-casco-umc-3pm-4pm-5/
END:VEVENT
BEGIN:VEVENT
DTSTART;TZID=America/Detroit:20190908T060000
DTEND;TZID=America/Detroit:20190908T060000
DTSTAMP:20260424T141844
CREATED:20181231T033613Z
LAST-MODIFIED:20181231T033613Z
UID:405-1567922400-1567922400@greaterfaithcc.org
SUMMARY:Board of Trustee Meeting @ 10 am
DESCRIPTION:
URL:https://greaterfaithcc.org/event/board-of-trustee-meeting-10-am-10/
END:VEVENT
BEGIN:VEVENT
DTSTART;TZID=America/Detroit:20190828T080000
DTEND;TZID=America/Detroit:20190828T090000
DTSTAMP:20260424T141844
CREATED:20190528T020744Z
LAST-MODIFIED:20190528T020744Z
UID:484-1566979200-1566982800@greaterfaithcc.org
SUMMARY:GFCC Bible Study - Noon - 1 pm
DESCRIPTION:
URL:https://greaterfaithcc.org/event/gfcc-bible-study-noon-1-pm-14/
END:VEVENT
BEGIN:VEVENT
DTSTART;TZID=America/Detroit:20190824T053000
DTEND;TZID=America/Detroit:20190824T053000
DTSTAMP:20260424T141844
CREATED:20181231T041253Z
LAST-MODIFIED:20181231T041253Z
UID:429-1566624600-1566624600@greaterfaithcc.org
SUMMARY:ROUTE 66 Men's Fellowship Breakfast - 9:30 am
DESCRIPTION:
URL:https://greaterfaithcc.org/event/route-66-mens-fellowship-breakfast-930-am-3/
END:VEVENT
BEGIN:VEVENT
DTSTART;TZID=America/Detroit:20190821T130000
DTEND;TZID=America/Detroit:20190821T130000
DTSTAMP:20260424T141844
CREATED:20181231T041038Z
LAST-MODIFIED:20181231T041038Z
UID:427-1566392400-1566392400@greaterfaithcc.org
SUMMARY:ROUTE 66 Women's Fellowship Meeting @ GFCC - 5pm
DESCRIPTION:
URL:https://greaterfaithcc.org/event/route-66-womens-fellowship-meeting-gfcc-5pm-2/
END:VEVENT
BEGIN:VEVENT
DTSTART;TZID=America/Detroit:20190821T080000
DTEND;TZID=America/Detroit:20190821T090000
DTSTAMP:20260424T141844
CREATED:20190528T020427Z
LAST-MODIFIED:20190528T020427Z
UID:482-1566374400-1566378000@greaterfaithcc.org
SUMMARY:GFCC Bible Study - Noon - 1 pm
DESCRIPTION:
URL:https://greaterfaithcc.org/event/gfcc-bible-study-noon-1-pm-13/
END:VEVENT
BEGIN:VEVENT
DTSTART;TZID=America/Detroit:20190814T080000
DTEND;TZID=America/Detroit:20190814T090000
DTSTAMP:20260424T141844
CREATED:20190528T020338Z
LAST-MODIFIED:20190528T020338Z
UID:480-1565769600-1565773200@greaterfaithcc.org
SUMMARY:GFCC Bible Study - Noon - 1 pm
DESCRIPTION:
URL:https://greaterfaithcc.org/event/gfcc-bible-study-noon-1-pm-12/
END:VEVENT
BEGIN:VEVENT
DTSTART;TZID=America/Detroit:20190812T110000
DTEND;TZID=America/Detroit:20190812T120000
DTSTAMP:20260424T141844
CREATED:20181231T040928Z
LAST-MODIFIED:20181231T040928Z
UID:426-1565607600-1565611200@greaterfaithcc.org
SUMMARY:Food Pantry @ Casco UMC - 3pm - 4pm
DESCRIPTION:
URL:https://greaterfaithcc.org/event/food-pantry-casco-umc-3pm-4pm-4/
END:VEVENT
BEGIN:VEVENT
DTSTART;TZID=America/Detroit:20190811T060000
DTEND;TZID=America/Detroit:20190811T180000
DTSTAMP:20260424T141844
CREATED:20181231T033649Z
LAST-MODIFIED:20181231T033649Z
UID:406-1565503200-1565546400@greaterfaithcc.org
SUMMARY:Board of Trustee Meeting @ 10 am
DESCRIPTION:
URL:https://greaterfaithcc.org/event/board-of-trustee-meeting-10-am-11/
END:VEVENT
BEGIN:VEVENT
DTSTART;TZID=America/Detroit:20190807T080000
DTEND;TZID=America/Detroit:20190807T090000
DTSTAMP:20260424T141844
CREATED:20190528T020224Z
LAST-MODIFIED:20190528T020224Z
UID:478-1565164800-1565168400@greaterfaithcc.org
SUMMARY:GFCC Bible Study - Noon - 1 pm
DESCRIPTION:
URL:https://greaterfaithcc.org/event/gfcc-bible-study-noon-1-pm-11/
END:VEVENT
BEGIN:VEVENT
DTSTART;TZID=America/Detroit:20190803T040000
DTEND;TZID=America/Detroit:20190803T040000
DTSTAMP:20260424T141844
CREATED:20190528T020106Z
LAST-MODIFIED:20190528T020106Z
UID:476-1564804800-1564804800@greaterfaithcc.org
SUMMARY:Casco Ultimate Mud Challenge - August 3rd
DESCRIPTION:
URL:https://greaterfaithcc.org/event/casco-ultimate-mud-challenge-august-3rd/
END:VEVENT
BEGIN:VEVENT
DTSTART;TZID=America/Detroit:20190731T080000
DTEND;TZID=America/Detroit:20190731T090000
DTSTAMP:20260424T141844
CREATED:20190528T015941Z
LAST-MODIFIED:20190528T015941Z
UID:474-1564560000-1564563600@greaterfaithcc.org
SUMMARY:GFCC Bible Study - Noon - 1 pm
DESCRIPTION:
URL:https://greaterfaithcc.org/event/gfcc-bible-study-noon-1-pm-10/
END:VEVENT
BEGIN:VEVENT
DTSTART;TZID=America/Detroit:20190727T053000
DTEND;TZID=America/Detroit:20190727T053000
DTSTAMP:20260424T141844
CREATED:20181231T040329Z
LAST-MODIFIED:20181231T040329Z
UID:425-1564205400-1564205400@greaterfaithcc.org
SUMMARY:ROUTE 66 Men's Fellowship Breakfast - 9:30 am
DESCRIPTION:
URL:https://greaterfaithcc.org/event/route-66-mens-fellowship-breakfast-930-am-2/
END:VEVENT
BEGIN:VEVENT
DTSTART;TZID=America/Detroit:20190724T080000
DTEND;TZID=America/Detroit:20190724T090000
DTSTAMP:20260424T141844
CREATED:20190528T015913Z
LAST-MODIFIED:20190528T015913Z
UID:472-1563955200-1563958800@greaterfaithcc.org
SUMMARY:GFCC Bible Study - Noon - 1 pm
DESCRIPTION:
URL:https://greaterfaithcc.org/event/gfcc-bible-study-noon-1-pm-9/
END:VEVENT
BEGIN:VEVENT
DTSTART;TZID=America/Detroit:20190717T130000
DTEND;TZID=America/Detroit:20190717T130000
DTSTAMP:20260424T141844
CREATED:20181231T040135Z
LAST-MODIFIED:20181231T040135Z
UID:423-1563368400-1563368400@greaterfaithcc.org
SUMMARY:ROUTE 66 Women's Fellowship Meeting @ GFCC - 5pm
DESCRIPTION:
URL:https://greaterfaithcc.org/event/route-66-womens-fellowship-meeting-gfcc-5pm/
END:VEVENT
BEGIN:VEVENT
DTSTART;TZID=America/Detroit:20190717T080000
DTEND;TZID=America/Detroit:20190717T090000
DTSTAMP:20260424T141844
CREATED:20190528T015848Z
LAST-MODIFIED:20190528T015848Z
UID:470-1563350400-1563354000@greaterfaithcc.org
SUMMARY:GFCC Bible Study - Noon - 1 pm
DESCRIPTION:
URL:https://greaterfaithcc.org/event/gfcc-bible-study-noon-1-pm-8/
END:VEVENT
END:VCALENDAR