BEGIN:VCALENDAR
VERSION:2.0
PRODID:-//Greater Faith Community Church - ECPv6.15.20//NONSGML v1.0//EN
CALSCALE:GREGORIAN
METHOD:PUBLISH
X-WR-CALNAME:Greater Faith Community Church
X-ORIGINAL-URL:https://greaterfaithcc.org
X-WR-CALDESC:Events for Greater Faith Community Church
REFRESH-INTERVAL;VALUE=DURATION:PT1H
X-Robots-Tag:noindex
X-PUBLISHED-TTL:PT1H
BEGIN:VTIMEZONE
TZID:America/Detroit
BEGIN:DAYLIGHT
TZOFFSETFROM:-0500
TZOFFSETTO:-0400
TZNAME:EDT
DTSTART:20160313T070000
END:DAYLIGHT
BEGIN:STANDARD
TZOFFSETFROM:-0400
TZOFFSETTO:-0500
TZNAME:EST
DTSTART:20161106T060000
END:STANDARD
BEGIN:DAYLIGHT
TZOFFSETFROM:-0500
TZOFFSETTO:-0400
TZNAME:EDT
DTSTART:20170312T070000
END:DAYLIGHT
BEGIN:STANDARD
TZOFFSETFROM:-0400
TZOFFSETTO:-0500
TZNAME:EST
DTSTART:20171105T060000
END:STANDARD
BEGIN:DAYLIGHT
TZOFFSETFROM:-0500
TZOFFSETTO:-0400
TZNAME:EDT
DTSTART:20180311T070000
END:DAYLIGHT
BEGIN:STANDARD
TZOFFSETFROM:-0400
TZOFFSETTO:-0500
TZNAME:EST
DTSTART:20181104T060000
END:STANDARD
BEGIN:DAYLIGHT
TZOFFSETFROM:-0500
TZOFFSETTO:-0400
TZNAME:EDT
DTSTART:20190310T070000
END:DAYLIGHT
BEGIN:STANDARD
TZOFFSETFROM:-0400
TZOFFSETTO:-0500
TZNAME:EST
DTSTART:20191103T060000
END:STANDARD
BEGIN:DAYLIGHT
TZOFFSETFROM:-0500
TZOFFSETTO:-0400
TZNAME:EDT
DTSTART:20200308T070000
END:DAYLIGHT
BEGIN:STANDARD
TZOFFSETFROM:-0400
TZOFFSETTO:-0500
TZNAME:EST
DTSTART:20201101T060000
END:STANDARD
END:VTIMEZONE
BEGIN:VEVENT
DTSTART;TZID=America/Detroit:20190414T060000
DTEND;TZID=America/Detroit:20190414T060000
DTSTAMP:20260425T000620
CREATED:20181231T032944Z
LAST-MODIFIED:20181231T032944Z
UID:399-1555221600-1555221600@greaterfaithcc.org
SUMMARY:Board of Trustee Meeting @ 10 am
DESCRIPTION:
URL:https://greaterfaithcc.org/event/board-of-trustee-meeting-10-am-5/
END:VEVENT
BEGIN:VEVENT
DTSTART;TZID=America/Detroit:20190408T100000
DTEND;TZID=America/Detroit:20190408T123000
DTSTAMP:20260425T000620
CREATED:20181224T093422Z
LAST-MODIFIED:20181224T093620Z
UID:384-1554717600-1554726600@greaterfaithcc.org
SUMMARY:FOOD PANTRY @ Casco United Methodist Church – 3pm – 4pm - GFCC turn to clean up
DESCRIPTION:Come out and enjoy a day of WORKING Fellowship as we help those in need.
URL:https://greaterfaithcc.org/event/food-pantry-casco-united-methodist-church-3pm-4pm-gfcc-turn-to-clean-up-2/
END:VEVENT
BEGIN:VEVENT
DTSTART;TZID=America/Detroit:20190406T080000
DTEND;TZID=America/Detroit:20190406T100000
DTSTAMP:20260425T000620
CREATED:20181224T093050Z
LAST-MODIFIED:20181224T093050Z
UID:380-1554537600-1554544800@greaterfaithcc.org
SUMMARY:ROUTE 66 - WOMEN'S Fellowship - Annual Spring Tea @ Greater Faith Community Church
DESCRIPTION:
URL:https://greaterfaithcc.org/event/route-66-womens-fellowship-annual-spring-tea-greater-faith-community-church/
END:VEVENT
BEGIN:VEVENT
DTSTART;TZID=America/Detroit:20190323T053000
DTEND;TZID=America/Detroit:20190323T053000
DTSTAMP:20260425T000620
CREATED:20181224T092931Z
LAST-MODIFIED:20181224T092931Z
UID:379-1553319000-1553319000@greaterfaithcc.org
SUMMARY:ROUTE 66 - Men's Fellowship Breakfast - @ Greater Faith Community Church - 9:30 am
DESCRIPTION:
URL:https://greaterfaithcc.org/event/route-66-mens-fellowship-breakfast-greater-faith-community-church-930-am-2/
END:VEVENT
BEGIN:VEVENT
DTSTART;TZID=America/Detroit:20190311T110000
DTEND;TZID=America/Detroit:20190311T120000
DTSTAMP:20260425T000620
CREATED:20181224T093309Z
LAST-MODIFIED:20181224T093606Z
UID:383-1552302000-1552305600@greaterfaithcc.org
SUMMARY:FOOD PANTRY @ Casco United Methodist Church – 3pm – 4pm
DESCRIPTION:Come out and enjoy a day of WORKING Fellowship as we help those in need.
URL:https://greaterfaithcc.org/event/food-pantry-casco-united-methodist-church-3pm-4pm-3/
END:VEVENT
BEGIN:VEVENT
DTSTART;TZID=America/Detroit:20190310T060000
DTEND;TZID=America/Detroit:20190310T060000
DTSTAMP:20260425T000620
CREATED:20181231T032740Z
LAST-MODIFIED:20181231T032740Z
UID:398-1552197600-1552197600@greaterfaithcc.org
SUMMARY:Board of Trustee Meeting @ 10 am
DESCRIPTION:
URL:https://greaterfaithcc.org/event/board-of-trustee-meeting-10-am-4/
END:VEVENT
BEGIN:VEVENT
DTSTART;TZID=America/Detroit:20190309T210000
DTEND;TZID=America/Detroit:20190309T210000
DTSTAMP:20260425T000620
CREATED:20181224T093937Z
LAST-MODIFIED:20181224T093937Z
UID:386-1552165200-1552165200@greaterfaithcc.org
SUMMARY:Daylight Savings begins
DESCRIPTION:
URL:https://greaterfaithcc.org/event/daylight-savings-begins/
END:VEVENT
BEGIN:VEVENT
DTSTART;TZID=America/Detroit:20190309T185500
DTEND;TZID=America/Detroit:20190309T185500
DTSTAMP:20260425T000620
CREATED:20181224T094058Z
LAST-MODIFIED:20181224T094058Z
UID:387-1552157700-1552157700@greaterfaithcc.org
SUMMARY:Don't forget to turn your clocks AHEAD 1 hour before bed tonight
DESCRIPTION:
URL:https://greaterfaithcc.org/event/dont-forget-to-turn-your-clocks-ahead-1-hour-before-bed-tonight/
END:VEVENT
BEGIN:VEVENT
DTSTART;TZID=America/Detroit:20190306T130000
DTEND;TZID=America/Detroit:20190306T130000
DTSTAMP:20260425T000620
CREATED:20190212T225618Z
LAST-MODIFIED:20190212T225618Z
UID:438-1551877200-1551877200@greaterfaithcc.org
SUMMARY:Ash Wednesday Service - 6pm @ Kibbie Christian Reformed - Pastor Thomas speaking
DESCRIPTION:
URL:https://greaterfaithcc.org/event/ash-wednesday-service-6pm-kibbie-christian-reformed-pastor-thomas-speaking/
END:VEVENT
BEGIN:VEVENT
DTSTART;TZID=America/Detroit:20190223T043000
DTEND;TZID=America/Detroit:20190223T043000
DTSTAMP:20260425T000620
CREATED:20181224T092813Z
LAST-MODIFIED:20181224T092813Z
UID:378-1550896200-1550896200@greaterfaithcc.org
SUMMARY:ROUTE 66 - Men's Fellowship Breakfast - @ Kibbie Christian Reformed Church - 9:30 am
DESCRIPTION:
URL:https://greaterfaithcc.org/event/route-66-mens-fellowship-breakfast-kibbie-christian-reformed-church-930-am-2/
END:VEVENT
BEGIN:VEVENT
DTSTART;TZID=America/Detroit:20190211T100000
DTEND;TZID=America/Detroit:20190211T110000
DTSTAMP:20260425T000620
CREATED:20181224T093219Z
LAST-MODIFIED:20181224T093523Z
UID:382-1549879200-1549882800@greaterfaithcc.org
SUMMARY:FOOD PANTRY @ Casco United Methodist Church – 3pm – 4pm
DESCRIPTION:Come out and enjoy a day of WORKING Fellowship as we help those in need.
URL:https://greaterfaithcc.org/event/food-pantry-casco-united-methodist-church-3pm-4pm-2/
END:VEVENT
BEGIN:VEVENT
DTSTART;TZID=America/Detroit:20190210T050000
DTEND;TZID=America/Detroit:20190210T050000
DTSTAMP:20260425T000620
CREATED:20181231T032622Z
LAST-MODIFIED:20181231T032622Z
UID:397-1549774800-1549774800@greaterfaithcc.org
SUMMARY:Board of Trustee Meeting @ 10 am
DESCRIPTION:
URL:https://greaterfaithcc.org/event/board-of-trustee-meeting-10-am-3/
END:VEVENT
BEGIN:VEVENT
DTSTART;TZID=America/Detroit:20190126T043000
DTEND;TZID=America/Detroit:20190126T043000
DTSTAMP:20260425T000620
CREATED:20181224T092656Z
LAST-MODIFIED:20181224T092656Z
UID:377-1548477000-1548477000@greaterfaithcc.org
SUMMARY:ROUTE 66 - Men's Fellowship Breakfast - @ Casco United Methodist Church - 9:30 am
DESCRIPTION:
URL:https://greaterfaithcc.org/event/route-66-mens-fellowship-breakfast-casco-united-methodist-church-930-am-3/
END:VEVENT
BEGIN:VEVENT
DTSTART;TZID=America/Detroit:20190114T090000
DTEND;TZID=America/Detroit:20190114T113000
DTSTAMP:20260425T000620
CREATED:20181224T092521Z
LAST-MODIFIED:20181224T092521Z
UID:376-1547456400-1547465400@greaterfaithcc.org
SUMMARY:FOOD PANTRY @ Casco United Methodist Church - 3pm - 4pm - GFCC turn to clean up
DESCRIPTION:Come out and enjoy a day of WORKING Fellowship as we help those in need.
URL:https://greaterfaithcc.org/event/food-pantry-casco-united-methodist-church-3pm-4pm-gfcc-turn-to-clean-up/
END:VEVENT
BEGIN:VEVENT
DTSTART;TZID=America/Detroit:20190113T073000
DTEND;TZID=America/Detroit:20190113T073000
DTSTAMP:20260425T000620
CREATED:20181224T092327Z
LAST-MODIFIED:20181224T092327Z
UID:375-1547364600-1547364600@greaterfaithcc.org
SUMMARY:Annual Business Meeting - immediately following morning service
DESCRIPTION:
URL:https://greaterfaithcc.org/event/annual-business-meeting-immediately-following-morning-service/
END:VEVENT
BEGIN:VEVENT
DTSTART;TZID=America/Detroit:20181230T060000
DTEND;TZID=America/Detroit:20181230T073000
DTSTAMP:20260425T000620
CREATED:20181224T092153Z
LAST-MODIFIED:20181224T092153Z
UID:374-1546149600-1546155000@greaterfaithcc.org
SUMMARY:Watch Service - 11 am
DESCRIPTION:
URL:https://greaterfaithcc.org/event/watch-service-11-am/
END:VEVENT
BEGIN:VEVENT
DTSTART;TZID=America/Detroit:20180121T070000
DTEND;TZID=America/Detroit:20180121T070000
DTSTAMP:20260425T000620
CREATED:20171210T101444Z
LAST-MODIFIED:20171210T101444Z
UID:368-1516518000-1516518000@greaterfaithcc.org
SUMMARY:ANNUAL Business Meeting - January 21 - Immediately following Morning Service
DESCRIPTION:
URL:https://greaterfaithcc.org/event/annual-business-meeting-january-21-immediately-following-morning-service/
END:VEVENT
BEGIN:VEVENT
DTSTART;TZID=America/Detroit:20180121T050000
DTEND;TZID=America/Detroit:20180121T050000
DTSTAMP:20260425T000620
CREATED:20171210T101334Z
LAST-MODIFIED:20171210T101334Z
UID:367-1516510800-1516510800@greaterfaithcc.org
SUMMARY:Board of Trustee Meeting - 10 AM - January 21
DESCRIPTION:
URL:https://greaterfaithcc.org/event/board-of-trustee-meeting-10-am-january-21/
END:VEVENT
BEGIN:VEVENT
DTSTART;TZID=America/Detroit:20171231T060000
DTEND;TZID=America/Detroit:20171231T080000
DTSTAMP:20260425T000620
CREATED:20171210T101225Z
LAST-MODIFIED:20171210T101225Z
UID:366-1514700000-1514707200@greaterfaithcc.org
SUMMARY:WATCH SERVICE and 5th Sunday Blessed Luncheon - Dec. 31 @ GFCC
DESCRIPTION:
URL:https://greaterfaithcc.org/event/watch-service-and-5th-sunday-blessed-luncheon-dec-31-gfcc/
END:VEVENT
BEGIN:VEVENT
DTSTART;TZID=America/Detroit:20171115T120000
DTEND;TZID=America/Detroit:20171115T131500
DTSTAMP:20260425T000620
CREATED:20170718T032858Z
LAST-MODIFIED:20170718T032858Z
UID:345-1510747200-1510751700@greaterfaithcc.org
SUMMARY:GFCC Women’s Meeting – Wednesday – 5:00 pm – 6:15pm
DESCRIPTION:Ladies\, come join us in the GFCC Fellowship Hall for our last monthly meeting of the year.  This year we have been learning more about Prayer.
URL:https://greaterfaithcc.org/event/gfcc-womens-meeting-wednesday-500-pm-615pm-4/
END:VEVENT
BEGIN:VEVENT
DTSTART;TZID=America/Detroit:20171028T043000
DTEND;TZID=America/Detroit:20171028T090000
DTSTAMP:20260425T000620
CREATED:20170718T032559Z
LAST-MODIFIED:20170718T032559Z
UID:344-1509165000-1509181200@greaterfaithcc.org
SUMMARY:Annual Fall Women's meeting - Route 66 Fellowship - 8:30 am - 1:00 pm @ Kibbie Christian Reformed Church
DESCRIPTION:LADIES – It is that wonderful time of year again.  Please come join us at Kibbie Christian Reformed Church for our annual women’s conference.  We will begin registration at 8:30 am and will be ending the day approximately 1:00 pm. Continental breakfast and lunch will be served throughout the day.  PLEASE RSVP by October 14th if you are planning on attending.  Thank you\, looking forward to seeing you all there.
URL:https://greaterfaithcc.org/event/annual-fall-womens-meeting-route-66-fellowship-830-am-100-pm-kibbie-christian-reformed-church/
END:VEVENT
BEGIN:VEVENT
DTSTART;TZID=America/Detroit:20171025T143000
DTEND;TZID=America/Detroit:20171025T153000
DTSTAMP:20260425T000620
CREATED:20170718T045911Z
LAST-MODIFIED:20170718T045911Z
UID:362-1508941800-1508945400@greaterfaithcc.org
SUMMARY:Wednesday night Bible Study - 6:30 pm - 7:30 pm
DESCRIPTION:
URL:https://greaterfaithcc.org/event/wednesday-night-bible-study-630-pm-730-pm-16/
END:VEVENT
BEGIN:VEVENT
DTSTART;TZID=America/Detroit:20171018T143000
DTEND;TZID=America/Detroit:20171018T153000
DTSTAMP:20260425T000620
CREATED:20170718T045718Z
LAST-MODIFIED:20170718T045718Z
UID:360-1508337000-1508340600@greaterfaithcc.org
SUMMARY:Wednesday night Bible Study - 6:30 pm - 7:30 pm
DESCRIPTION:
URL:https://greaterfaithcc.org/event/wednesday-night-bible-study-630-pm-730-pm-15/
END:VEVENT
BEGIN:VEVENT
DTSTART;TZID=America/Detroit:20171018T130000
DTEND;TZID=America/Detroit:20171018T141500
DTSTAMP:20260425T000620
CREATED:20170718T031927Z
LAST-MODIFIED:20170718T031927Z
UID:343-1508331600-1508336100@greaterfaithcc.org
SUMMARY:LADIES - no meeting on third Wednesday of October - come join us October 28th instead
DESCRIPTION:Due to our annual fall women’s meeting being moved to October 28th this year\, we will not be having our usual women’s Wednesday night meeting on the third Wednesday of October.
URL:https://greaterfaithcc.org/event/ladies-no-meeting-on-third-wednesday-of-october-come-join-us-october-28th-instead/
END:VEVENT
BEGIN:VEVENT
DTSTART;TZID=America/Detroit:20171015T070000
DTEND;TZID=America/Detroit:20171015T070000
DTSTAMP:20260425T000620
CREATED:20170718T050157Z
LAST-MODIFIED:20170718T050157Z
UID:363-1508050800-1508050800@greaterfaithcc.org
SUMMARY:Pastor's Appreciation - Lunch following morning service
DESCRIPTION:
URL:https://greaterfaithcc.org/event/pastors-appreciation-lunch-following-morning-service/
END:VEVENT
BEGIN:VEVENT
DTSTART;TZID=America/Detroit:20171011T143000
DTEND;TZID=America/Detroit:20171011T153000
DTSTAMP:20260425T000620
CREATED:20170718T045611Z
LAST-MODIFIED:20170718T045611Z
UID:359-1507732200-1507735800@greaterfaithcc.org
SUMMARY:Wednesday night Bible Study - 6:30 pm - 7:30 pm
DESCRIPTION:
URL:https://greaterfaithcc.org/event/wednesday-night-bible-study-630-pm-730-pm-14/
END:VEVENT
BEGIN:VEVENT
DTSTART;TZID=America/Detroit:20171004T143000
DTEND;TZID=America/Detroit:20171004T153000
DTSTAMP:20260425T000620
CREATED:20170718T045525Z
LAST-MODIFIED:20170718T045525Z
UID:358-1507127400-1507131000@greaterfaithcc.org
SUMMARY:Wednesday night Bible Study - 6:30 pm - 7:30 pm
DESCRIPTION:
URL:https://greaterfaithcc.org/event/wednesday-night-bible-study-630-pm-730-pm-13/
END:VEVENT
BEGIN:VEVENT
DTSTART;TZID=America/Detroit:20170927T143000
DTEND;TZID=America/Detroit:20170927T153000
DTSTAMP:20260425T000620
CREATED:20170718T045421Z
LAST-MODIFIED:20170718T045421Z
UID:357-1506522600-1506526200@greaterfaithcc.org
SUMMARY:Wednesday night Bible Study - 6:30 pm - 7:30 pm
DESCRIPTION:
URL:https://greaterfaithcc.org/event/wednesday-night-bible-study-630-pm-730-pm-12/
END:VEVENT
BEGIN:VEVENT
DTSTART;TZID=America/Detroit:20170920T143000
DTEND;TZID=America/Detroit:20170920T153000
DTSTAMP:20260425T000620
CREATED:20170718T045252Z
LAST-MODIFIED:20170718T045252Z
UID:356-1505917800-1505921400@greaterfaithcc.org
SUMMARY:Wednesday night Bible Study - 6:30 pm - 7:30 pm
DESCRIPTION:
URL:https://greaterfaithcc.org/event/wednesday-night-bible-study-630-pm-730-pm-11/
END:VEVENT
BEGIN:VEVENT
DTSTART;TZID=America/Detroit:20170920T130000
DTEND;TZID=America/Detroit:20170920T141500
DTSTAMP:20260425T000620
CREATED:20170718T031252Z
LAST-MODIFIED:20170718T031252Z
UID:342-1505912400-1505916900@greaterfaithcc.org
SUMMARY:GFCC Women’s Meeting – Wednesday – 5:00 pm – 6:15pm
DESCRIPTION:Ladies\, come join us in the GFCC Fellowship Hall for our monthly meetings; held every third Wednesday of the month through November.  This year we are learning more about Prayer.
URL:https://greaterfaithcc.org/event/gfcc-womens-meeting-wednesday-500-pm-615pm-3/
END:VEVENT
END:VCALENDAR