BEGIN:VCALENDAR
VERSION:2.0
PRODID:-//Greater Faith Community Church - ECPv6.15.20//NONSGML v1.0//EN
CALSCALE:GREGORIAN
METHOD:PUBLISH
X-WR-CALNAME:Greater Faith Community Church
X-ORIGINAL-URL:https://greaterfaithcc.org
X-WR-CALDESC:Events for Greater Faith Community Church
REFRESH-INTERVAL;VALUE=DURATION:PT1H
X-Robots-Tag:noindex
X-PUBLISHED-TTL:PT1H
BEGIN:VTIMEZONE
TZID:America/Detroit
BEGIN:DAYLIGHT
TZOFFSETFROM:-0500
TZOFFSETTO:-0400
TZNAME:EDT
DTSTART:20220313T070000
END:DAYLIGHT
BEGIN:STANDARD
TZOFFSETFROM:-0400
TZOFFSETTO:-0500
TZNAME:EST
DTSTART:20221106T060000
END:STANDARD
BEGIN:DAYLIGHT
TZOFFSETFROM:-0500
TZOFFSETTO:-0400
TZNAME:EDT
DTSTART:20230312T070000
END:DAYLIGHT
BEGIN:STANDARD
TZOFFSETFROM:-0400
TZOFFSETTO:-0500
TZNAME:EST
DTSTART:20231105T060000
END:STANDARD
BEGIN:DAYLIGHT
TZOFFSETFROM:-0500
TZOFFSETTO:-0400
TZNAME:EDT
DTSTART:20240310T070000
END:DAYLIGHT
BEGIN:STANDARD
TZOFFSETFROM:-0400
TZOFFSETTO:-0500
TZNAME:EST
DTSTART:20241103T060000
END:STANDARD
BEGIN:DAYLIGHT
TZOFFSETFROM:-0500
TZOFFSETTO:-0400
TZNAME:EDT
DTSTART:20250309T070000
END:DAYLIGHT
BEGIN:STANDARD
TZOFFSETFROM:-0400
TZOFFSETTO:-0500
TZNAME:EST
DTSTART:20251102T060000
END:STANDARD
END:VTIMEZONE
BEGIN:VEVENT
DTSTART;TZID=America/Detroit:20240907T110000
DTEND;TZID=America/Detroit:20240907T110000
DTSTAMP:20260423T164913
CREATED:20240527T210817Z
LAST-MODIFIED:20240527T210817Z
UID:4012-1725706800-1725706800@greaterfaithcc.org
SUMMARY:LAST Route 66 Prayer & Bible Study of 2024. 11am @ Greater Faith Community Church Fellowship Hall
DESCRIPTION:LAST Route 66 Prayer & Bible Study of 2024. 11am @ Greater Faith Community Church Fellowship Hall. ALL are welcome!\n 
URL:https://greaterfaithcc.org/event/last-route-66-prayer-bible-study-of-2024-11am-greater-faith-community-church-fellowship-hall/
END:VEVENT
BEGIN:VEVENT
DTSTART;TZID=America/Detroit:20240820T113000
DTEND;TZID=America/Detroit:20240820T123000
DTSTAMP:20260423T164913
CREATED:20240527T210453Z
LAST-MODIFIED:20240527T210453Z
UID:4006-1724153400-1724157000@greaterfaithcc.org
SUMMARY:August 20 ~ Route 66 J.O.Y. Group; 11:45am @ Van Buren Senior Center in South Haven.
DESCRIPTION: Route 66 J.O.Y. Group; @ Van Buren Senior Center in South Haven.11:45am
URL:https://greaterfaithcc.org/event/august-20-route-66-j-o-y-group-1145am-van-buren-senior-center-in-south-haven/
END:VEVENT
BEGIN:VEVENT
DTSTART;TZID=America/Detroit:20240817T093000
DTEND;TZID=America/Detroit:20240817T093000
DTSTAMP:20260423T164913
CREATED:20240527T211357Z
LAST-MODIFIED:20240527T211357Z
UID:4016-1723887000-1723887000@greaterfaithcc.org
SUMMARY:Route 66 Men’s Fellowship Breakfast\, 9:30am @ Greater Faith Community Church
DESCRIPTION:
URL:https://greaterfaithcc.org/event/route-66-mens-fellowship-breakfast-930am-greater-faith-community-church/
END:VEVENT
BEGIN:VEVENT
DTSTART;TZID=America/Detroit:20240803T110000
DTEND;TZID=America/Detroit:20240803T110000
DTSTAMP:20260423T164913
CREATED:20240527T210711Z
LAST-MODIFIED:20240527T210711Z
UID:4010-1722682800-1722682800@greaterfaithcc.org
SUMMARY:Route 66 Prayer & Bible Study. 11am @ Greater Faith Community Church Fellowship Hall
DESCRIPTION:Route 66 Prayer & Bible Study. 11am @ Greater Faith Community Church Fellowship Hall. ALL are welcome!
URL:https://greaterfaithcc.org/event/route-66-prayer-bible-study-11am-greater-faith-community-church-fellowship-hall-2/
END:VEVENT
BEGIN:VEVENT
DTSTART;TZID=America/Detroit:20240720T093000
DTEND;TZID=America/Detroit:20240720T093000
DTSTAMP:20260423T164913
CREATED:20240527T210916Z
LAST-MODIFIED:20240527T211256Z
UID:4014-1721467800-1721467800@greaterfaithcc.org
SUMMARY:Route 66 Men’s Fellowship Breakfast\, 9:30am @ Kibbie Christian Reformed
DESCRIPTION:
URL:https://greaterfaithcc.org/event/route-66-mens-fellowship-breakfast-930am-kibbie-christian-reformed/
END:VEVENT
BEGIN:VEVENT
DTSTART;TZID=America/Detroit:20240716T113000
DTEND;TZID=America/Detroit:20240716T123000
DTSTAMP:20260423T164913
CREATED:20240527T210057Z
LAST-MODIFIED:20240527T210057Z
UID:4004-1721129400-1721133000@greaterfaithcc.org
SUMMARY:July 16 ~ Route 66 J.O.Y. Group; 11:45am @ Van Buren Senior Center in South Haven.
DESCRIPTION:July 16 ~ Route 66 J.O.Y. Group; @ Van Buren Senior Center in South Haven. 11:45am
URL:https://greaterfaithcc.org/event/july-16-route-66-j-o-y-group-1145am-van-buren-senior-center-in-south-haven/
END:VEVENT
BEGIN:VEVENT
DTSTART;TZID=America/Detroit:20240706T110000
DTEND;TZID=America/Detroit:20240706T110000
DTSTAMP:20260423T164913
CREATED:20240527T210607Z
LAST-MODIFIED:20240527T210607Z
UID:4008-1720263600-1720263600@greaterfaithcc.org
SUMMARY:Route 66 Prayer & Bible Study. 11am @ Greater Faith Community Church Fellowship Hall
DESCRIPTION:Route 66 Prayer & Bible Study. 11am @ Greater Faith Community Church Fellowship Hall. ALL are welcome.
URL:https://greaterfaithcc.org/event/route-66-prayer-bible-study-11am-greater-faith-community-church-fellowship-hall/
END:VEVENT
BEGIN:VEVENT
DTSTART;TZID=America/Detroit:20240622T093000
DTEND;TZID=America/Detroit:20240622T093000
DTSTAMP:20260423T164913
CREATED:20240518T164646Z
LAST-MODIFIED:20240518T164646Z
UID:3977-1719048600-1719048600@greaterfaithcc.org
SUMMARY:Route 66 Men's Fellowship Breakfast\, 9:30am @ Casco UMC
DESCRIPTION:Change of Date for June. Route 66 Men’s Breakfast on FOURTH Saturday in June only. Please mark your calendars.
URL:https://greaterfaithcc.org/event/route-66-mens-fellowship-breakfast-930am-casco-umc/
END:VEVENT
BEGIN:VEVENT
DTSTART;TZID=America/Detroit:20240618T113000
DTEND;TZID=America/Detroit:20240618T123000
DTSTAMP:20260423T164913
CREATED:20240527T205908Z
LAST-MODIFIED:20240527T205908Z
UID:4002-1718710200-1718713800@greaterfaithcc.org
SUMMARY:June 18 ~ Route 66 J.O.Y. Group; 11:45am @ Van Buren Senior Center in South Haven.
DESCRIPTION:June 18 ~ Route 66 J.O.Y. Group; @ Van Buren Senior Center in South Haven. Meeting in “Missy’s Card Room” at 11:45am.
URL:https://greaterfaithcc.org/event/june-18-route-66-j-o-y-group-1145am-van-buren-senior-center-in-south-haven/
END:VEVENT
BEGIN:VEVENT
DTSTART;TZID=America/Detroit:20240608T110000
DTEND;TZID=America/Detroit:20240608T110000
DTSTAMP:20260423T164913
CREATED:20240527T205715Z
LAST-MODIFIED:20240527T205715Z
UID:4000-1717844400-1717844400@greaterfaithcc.org
SUMMARY:June 8th\, Route 66 Prayer & Bible Study. 11am @ Greater Faith Community Church Fellowship Hall
DESCRIPTION:June 8th\, Route 66 Prayer & Bible Study. 11am @ Greater Faith Community Church Fellowship Hall. All are welcome to join us.
URL:https://greaterfaithcc.org/event/june-8th-route-66-prayer-bible-study-11am-greater-faith-community-church-fellowship-hall/
END:VEVENT
BEGIN:VEVENT
DTSTART;TZID=America/Detroit:20240518T093000
DTEND;TZID=America/Detroit:20240518T093000
DTSTAMP:20260423T164913
CREATED:20240407T225730Z
LAST-MODIFIED:20240407T225730Z
UID:3826-1716024600-1716024600@greaterfaithcc.org
SUMMARY:Route 66 Men’s Fellowship Breakfast @ Greater Faith Community Church; 9:30am
DESCRIPTION:All Men Welcome.
URL:https://greaterfaithcc.org/event/route-66-mens-fellowship-breakfast-greater-faith-community-church-930am/
END:VEVENT
BEGIN:VEVENT
DTSTART;TZID=America/Detroit:20240513T140000
DTEND;TZID=America/Detroit:20240513T140000
DTSTAMP:20260423T164913
CREATED:20240407T225238Z
LAST-MODIFIED:20240407T225238Z
UID:3822-1715608800-1715608800@greaterfaithcc.org
SUMMARY:Mobile Food Pantry @ Casco UMC; 2:00pm
DESCRIPTION:
URL:https://greaterfaithcc.org/event/mobile-food-pantry-casco-umc-200pm-8/
END:VEVENT
BEGIN:VEVENT
DTSTART;TZID=America/Detroit:20240509T173000
DTEND;TZID=America/Detroit:20240511T120000
DTSTAMP:20260423T164913
CREATED:20240407T225521Z
LAST-MODIFIED:20240407T225521Z
UID:3824-1715275800-1715428800@greaterfaithcc.org
SUMMARY:Preach Sista! Fresh Anointing Conference - Muskegon\, MI
DESCRIPTION:Located at Maranatha Bible & Conference 
URL:https://greaterfaithcc.org/event/preach-sista-fresh-anointing-conference-muskegon-mi/
END:VEVENT
BEGIN:VEVENT
DTSTART;TZID=America/Detroit:20240505T110000
DTEND;TZID=America/Detroit:20240505T110000
DTSTAMP:20260423T164913
CREATED:20240407T225145Z
LAST-MODIFIED:20240407T225145Z
UID:3820-1714906800-1714906800@greaterfaithcc.org
SUMMARY:Greater Faith Community Church 19th Anniversary
DESCRIPTION:Come join us for our 19th year celebration!
URL:https://greaterfaithcc.org/event/greater-faith-community-church-19th-anniversary/
END:VEVENT
BEGIN:VEVENT
DTSTART;TZID=America/Detroit:20240504T110000
DTEND;TZID=America/Detroit:20240504T110000
DTSTAMP:20260423T164913
CREATED:20240407T225021Z
LAST-MODIFIED:20240407T225021Z
UID:3818-1714820400-1714820400@greaterfaithcc.org
SUMMARY:Route 66 Prayer & Bible Study @ Greater Faith Community Church ~ 11:00am
DESCRIPTION:All are welcome. We meet in Greater Faith’s Fellowship Hall.
URL:https://greaterfaithcc.org/event/route-66-prayer-bible-study-greater-faith-community-church-1100am-2/
END:VEVENT
BEGIN:VEVENT
DTSTART;TZID=America/Detroit:20240420T110000
DTEND;TZID=America/Detroit:20240420T130000
DTSTAMP:20260423T164913
CREATED:20240203T181447Z
LAST-MODIFIED:20240325T012844Z
UID:3594-1713610800-1713618000@greaterfaithcc.org
SUMMARY:Route 66 Women's Fellowship Spring Tea @ Greater Faith Community Church ~ 11:00am
DESCRIPTION:All Ladies Welcome! Come join us for a BLESSED day of Fellowship in the Lord. \nThis year our guest speaker will be Dr. Michelle Loyd-Paige\, founder of Preach Sista! Fresh Anointing Conference in Muskegon\, MI. www.preachsista.org
URL:https://greaterfaithcc.org/event/route-66-womens-fellowship-spring-tea-gfcc/
END:VEVENT
BEGIN:VEVENT
DTSTART;TZID=America/Detroit:20240420T093000
DTEND;TZID=America/Detroit:20240420T093000
DTSTAMP:20260423T164913
CREATED:20240325T010442Z
LAST-MODIFIED:20240325T010442Z
UID:3679-1713605400-1713605400@greaterfaithcc.org
SUMMARY:Route 66 Men’s Fellowship Breakfast @ Casco UMC; 9:30am
DESCRIPTION:
URL:https://greaterfaithcc.org/event/route-66-mens-fellowship-breakfast-casco-umc-930am-5/
END:VEVENT
BEGIN:VEVENT
DTSTART;TZID=America/Detroit:20240416T114500
DTEND;TZID=America/Detroit:20240416T114500
DTSTAMP:20260423T164913
CREATED:20240414T204334Z
LAST-MODIFIED:20240414T204334Z
UID:3834-1713267900-1713267900@greaterfaithcc.org
SUMMARY:Route 66 J.O.Y. Group\, 11:45am\, in "Missy's Game Room"\, Van Buren Senior Center\, South Haven
DESCRIPTION:
URL:https://greaterfaithcc.org/event/route-66-j-o-y-group-1145am-in-missys-game-room-van-buren-senior-center-south-haven/
END:VEVENT
BEGIN:VEVENT
DTSTART;TZID=America/Detroit:20240408T140000
DTEND;TZID=America/Detroit:20240408T140000
DTSTAMP:20260423T164913
CREATED:20240203T180411Z
LAST-MODIFIED:20240203T180411Z
UID:3586-1712584800-1712584800@greaterfaithcc.org
SUMMARY:Mobile Food Pantry @ Casco UMC; 2:00pm
DESCRIPTION:
URL:https://greaterfaithcc.org/event/mobile-food-pantry-casco-umc-200pm-7/
END:VEVENT
BEGIN:VEVENT
DTSTART;TZID=America/Detroit:20240406T110000
DTEND;TZID=America/Detroit:20240406T110000
DTSTAMP:20260423T164913
CREATED:20240325T011734Z
LAST-MODIFIED:20240325T011734Z
UID:3681-1712401200-1712401200@greaterfaithcc.org
SUMMARY:Route 66 Prayer & Bible Study @ Greater Faith Community Church ~ 11:00am
DESCRIPTION:Everyone is welcome. \nWe meet on the 1st Saturday of each month\, from April through September. \nWe are currently studying the book of James. \n 
URL:https://greaterfaithcc.org/event/route-66-prayer-bible-study-greater-faith-community-church-1100am/
END:VEVENT
BEGIN:VEVENT
DTSTART;TZID=America/Detroit:20240319T110000
DTEND;TZID=America/Detroit:20240319T110000
DTSTAMP:20260423T164913
CREATED:20240318T003828Z
LAST-MODIFIED:20240318T003828Z
UID:3666-1710846000-1710846000@greaterfaithcc.org
SUMMARY:Route 66 JOY Group @ Van Buren Senior Services Center in South Haven
DESCRIPTION:ALL are welcome to join us. Please look for the table with our JOY Group Sign.
URL:https://greaterfaithcc.org/event/route-66-joy-group-van-buren-senior-services-center-in-south-haven/
END:VEVENT
BEGIN:VEVENT
DTSTART;TZID=America/Detroit:20240316T093000
DTEND;TZID=America/Detroit:20240316T093000
DTSTAMP:20260423T164913
CREATED:20240203T180715Z
LAST-MODIFIED:20240310T202736Z
UID:3588-1710581400-1710581400@greaterfaithcc.org
SUMMARY:Route 66 Men’s Fellowship Breakfast @ KIBBIE CHRISTIAN REFORMED; 9:30am
DESCRIPTION:
URL:https://greaterfaithcc.org/event/route-66-mens-fellowship-breakfast-casco-umc-930am-4/
END:VEVENT
BEGIN:VEVENT
DTSTART;TZID=America/Detroit:20240311T140000
DTEND;TZID=America/Detroit:20240311T140000
DTSTAMP:20260423T164913
CREATED:20240203T180239Z
LAST-MODIFIED:20240203T180324Z
UID:3583-1710165600-1710165600@greaterfaithcc.org
SUMMARY:Mobile Food Pantry @ Casco UMC; 2:00pm
DESCRIPTION:
URL:https://greaterfaithcc.org/event/mobile-food-pantry-casco-umc-200pm-6/
END:VEVENT
BEGIN:VEVENT
DTSTART;TZID=America/Detroit:20240217T093000
DTEND;TZID=America/Detroit:20240217T093000
DTSTAMP:20260423T164913
CREATED:20231210T210922Z
LAST-MODIFIED:20231210T210922Z
UID:3545-1708162200-1708162200@greaterfaithcc.org
SUMMARY:Route 66 Men's Fellowship Breakfast @ GFCC; 9:30am
DESCRIPTION:
URL:https://greaterfaithcc.org/event/route-66-mens-fellowship-breakfast-gfcc-930am-3/
END:VEVENT
BEGIN:VEVENT
DTSTART;TZID=America/Detroit:20240212T140000
DTEND;TZID=America/Detroit:20240212T140000
DTSTAMP:20260423T164913
CREATED:20240203T180116Z
LAST-MODIFIED:20240203T180116Z
UID:3581-1707746400-1707746400@greaterfaithcc.org
SUMMARY:Mobile Food Pantry @ Casco UMC; 2:00pm
DESCRIPTION:
URL:https://greaterfaithcc.org/event/mobile-food-pantry-casco-umc-200pm-5/
END:VEVENT
BEGIN:VEVENT
DTSTART;TZID=America/Detroit:20240203T080000
DTEND;TZID=America/Detroit:20240203T170000
DTSTAMP:20260423T164913
CREATED:20240203T180835Z
LAST-MODIFIED:20240203T180908Z
UID:3592-1706947200-1706979600@greaterfaithcc.org
SUMMARY:Route 66 Men’s Fellowship Breakfast @ Kibbie Christian Reformed; 9:30am
DESCRIPTION:
URL:https://greaterfaithcc.org/event/route-66-mens-fellowship-breakfast-kibbie-christian-reformed-930am-4/
END:VEVENT
BEGIN:VEVENT
DTSTART;TZID=America/Detroit:20240120T093000
DTEND;TZID=America/Detroit:20240120T093000
DTSTAMP:20260423T164913
CREATED:20231210T210814Z
LAST-MODIFIED:20231210T210814Z
UID:3543-1705743000-1705743000@greaterfaithcc.org
SUMMARY:Route 66 Men's Fellowship Breakfast @ Kibbie Christian Reformed; 9:30am
DESCRIPTION:
URL:https://greaterfaithcc.org/event/route-66-mens-fellowship-breakfast-kibbie-christian-reformed-930am-3/
END:VEVENT
BEGIN:VEVENT
DTSTART;VALUE=DATE:20231225
DTEND;VALUE=DATE:20231226
DTSTAMP:20260423T164913
CREATED:20230821T022905Z
LAST-MODIFIED:20230821T022905Z
UID:3400-1703462400-1703548799@greaterfaithcc.org
SUMMARY:MERRY CHRISTMAS!
DESCRIPTION:Remember to keep CHRIST at the CENTER of your Christmas!
URL:https://greaterfaithcc.org/event/merry-christmas/
END:VEVENT
BEGIN:VEVENT
DTSTART;TZID=America/Detroit:20231216T093000
DTEND;TZID=America/Detroit:20231216T110000
DTSTAMP:20260423T164913
CREATED:20230821T021341Z
LAST-MODIFIED:20230821T021341Z
UID:3391-1702719000-1702724400@greaterfaithcc.org
SUMMARY:Route 66 Men's Fellowship Breakfast @ Casco UMC\, 9:30am
DESCRIPTION:
URL:https://greaterfaithcc.org/event/route-66-mens-fellowship-breakfast-casco-umc-930am-3/
END:VEVENT
BEGIN:VEVENT
DTSTART;TZID=America/Detroit:20231211T140000
DTEND;TZID=America/Detroit:20231211T150000
DTSTAMP:20260423T164913
CREATED:20230821T023657Z
LAST-MODIFIED:20230821T023657Z
UID:3408-1702303200-1702306800@greaterfaithcc.org
SUMMARY:Mobile Food Pantry @ Casco UMC; 2:00pm
DESCRIPTION:
URL:https://greaterfaithcc.org/event/mobile-food-pantry-casco-umc-200pm-4/
END:VEVENT
END:VCALENDAR