BEGIN:VCALENDAR
VERSION:2.0
PRODID:-//Greater Faith Community Church - ECPv6.15.20//NONSGML v1.0//EN
CALSCALE:GREGORIAN
METHOD:PUBLISH
X-WR-CALNAME:Greater Faith Community Church
X-ORIGINAL-URL:https://greaterfaithcc.org
X-WR-CALDESC:Events for Greater Faith Community Church
REFRESH-INTERVAL;VALUE=DURATION:PT1H
X-Robots-Tag:noindex
X-PUBLISHED-TTL:PT1H
BEGIN:VTIMEZONE
TZID:America/Detroit
BEGIN:DAYLIGHT
TZOFFSETFROM:-0500
TZOFFSETTO:-0400
TZNAME:EDT
DTSTART:20150308T070000
END:DAYLIGHT
BEGIN:STANDARD
TZOFFSETFROM:-0400
TZOFFSETTO:-0500
TZNAME:EST
DTSTART:20151101T060000
END:STANDARD
BEGIN:DAYLIGHT
TZOFFSETFROM:-0500
TZOFFSETTO:-0400
TZNAME:EDT
DTSTART:20160313T070000
END:DAYLIGHT
BEGIN:STANDARD
TZOFFSETFROM:-0400
TZOFFSETTO:-0500
TZNAME:EST
DTSTART:20161106T060000
END:STANDARD
BEGIN:DAYLIGHT
TZOFFSETFROM:-0500
TZOFFSETTO:-0400
TZNAME:EDT
DTSTART:20170312T070000
END:DAYLIGHT
BEGIN:STANDARD
TZOFFSETFROM:-0400
TZOFFSETTO:-0500
TZNAME:EST
DTSTART:20171105T060000
END:STANDARD
BEGIN:DAYLIGHT
TZOFFSETFROM:-0500
TZOFFSETTO:-0400
TZNAME:EDT
DTSTART:20180311T070000
END:DAYLIGHT
BEGIN:STANDARD
TZOFFSETFROM:-0400
TZOFFSETTO:-0500
TZNAME:EST
DTSTART:20181104T060000
END:STANDARD
END:VTIMEZONE
BEGIN:VEVENT
DTSTART;TZID=America/Detroit:20170719T130000
DTEND;TZID=America/Detroit:20170719T141500
DTSTAMP:20260425T072240
CREATED:20170718T030726Z
LAST-MODIFIED:20170718T030726Z
UID:340-1500469200-1500473700@greaterfaithcc.org
SUMMARY:GFCC Women's Meeting - Wednesday - 5:00 pm - 6:15pm
DESCRIPTION:Ladies\, come join us in the GFCC Fellowship Hall for our monthly meetings.  This year we are learning more about Prayer.
URL:https://greaterfaithcc.org/event/gfcc-womens-meeting-wednesday-500-pm-615pm/
END:VEVENT
BEGIN:VEVENT
DTSTART;TZID=America/Detroit:20170525T040000
DTEND;TZID=America/Detroit:20170527T130000
DTSTAMP:20260425T072240
CREATED:20170414T062521Z
LAST-MODIFIED:20170414T062521Z
UID:336-1495684800-1495890000@greaterfaithcc.org
SUMMARY:Preach Sista Conference - Maranatha Bible Conference Center - Muskegon - May 25-27
DESCRIPTION:
URL:https://greaterfaithcc.org/event/preach-sista-conference-maranatha-bible-conference-center-muskegon-may-25-27/
END:VEVENT
BEGIN:VEVENT
DTSTART;TZID=America/Detroit:20170514T040000
DTEND;TZID=America/Detroit:20170514T130000
DTSTAMP:20260425T072240
CREATED:20170414T063137Z
LAST-MODIFIED:20170414T063137Z
UID:338-1494734400-1494766800@greaterfaithcc.org
SUMMARY:Happy Mother's Day to all our Mothers
DESCRIPTION:
URL:https://greaterfaithcc.org/event/happy-mothers-day-to-all-our-mothers/
END:VEVENT
BEGIN:VEVENT
DTSTART;TZID=America/Detroit:20170507T070000
DTEND;TZID=America/Detroit:20170507T070000
DTSTAMP:20260425T072240
CREATED:20170414T062916Z
LAST-MODIFIED:20170414T062916Z
UID:337-1494140400-1494140400@greaterfaithcc.org
SUMMARY:Church Anniversary 11 am - Luncheon following morning service
DESCRIPTION:
URL:https://greaterfaithcc.org/event/church-anniversary-11-am-luncheon-following-morning-service/
END:VEVENT
BEGIN:VEVENT
DTSTART;TZID=America/Detroit:20170430T083000
DTEND;TZID=America/Detroit:20170430T083000
DTSTAMP:20260425T072240
CREATED:20170110T090301Z
LAST-MODIFIED:20170110T090301Z
UID:331-1493541000-1493541000@greaterfaithcc.org
SUMMARY:5th Sunday Blessed Luncheon - @ Kibbie Christian Reformed Church - 12:30pm
DESCRIPTION:
URL:https://greaterfaithcc.org/event/5th-sunday-blessed-luncheon-kibbie-christian-reformed-church-1230pm/
END:VEVENT
BEGIN:VEVENT
DTSTART;TZID=America/Detroit:20170422T053000
DTEND;TZID=America/Detroit:20170422T053000
DTSTAMP:20260425T072240
CREATED:20170110T085807Z
LAST-MODIFIED:20170110T085807Z
UID:329-1492839000-1492839000@greaterfaithcc.org
SUMMARY:Route 66 Men's Fellowship Breakfast - @ Casco United Methodist Church - 9:30am
DESCRIPTION:
URL:https://greaterfaithcc.org/event/route-66-mens-fellowship-breakfast-casco-united-methodist-church-930am/
END:VEVENT
BEGIN:VEVENT
DTSTART;TZID=America/Detroit:20170410T110000
DTEND;TZID=America/Detroit:20170410T120000
DTSTAMP:20260425T072240
CREATED:20170110T090030Z
LAST-MODIFIED:20170110T090030Z
UID:330-1491822000-1491825600@greaterfaithcc.org
SUMMARY:Mobile Food Pantry - Casco United Methodist Church - 3:00pm - 4:00pm - GFCC turn to cleanup
DESCRIPTION:
URL:https://greaterfaithcc.org/event/mobile-food-pantry-casco-united-methodist-church-300pm-400pm-gfcc-turn-to-cleanup/
END:VEVENT
BEGIN:VEVENT
DTSTART;TZID=America/Detroit:20170409T060000
DTEND;TZID=America/Detroit:20170409T060000
DTSTAMP:20260425T072240
CREATED:20170110T085301Z
LAST-MODIFIED:20170110T085301Z
UID:327-1491717600-1491717600@greaterfaithcc.org
SUMMARY:Board of Trustee's meeting - 10am
DESCRIPTION:
URL:https://greaterfaithcc.org/event/board-of-trustees-meeting-10am-4/
END:VEVENT
BEGIN:VEVENT
DTSTART;TZID=America/Detroit:20170408T100000
DTEND;TZID=America/Detroit:20170408T120000
DTSTAMP:20260425T072240
CREATED:20170110T085642Z
LAST-MODIFIED:20170110T085642Z
UID:328-1491645600-1491652800@greaterfaithcc.org
SUMMARY:GFCC Women's Spring Tea - 2:00pm - 4:00pm - RSVP by March 26th please
DESCRIPTION:Ladies please come and join us for our Spring Tea.  We will be in the GFCC Fellowship Hall.  Please RSVP by March 26th to 269-637-5697.
URL:https://greaterfaithcc.org/event/gfcc-womens-spring-tea-200pm-400pm-rsvp-by-march-26th-please/
END:VEVENT
BEGIN:VEVENT
DTSTART;TZID=America/Detroit:20170325T053000
DTEND;TZID=America/Detroit:20170325T053000
DTSTAMP:20260425T072240
CREATED:20170110T084752Z
LAST-MODIFIED:20170110T084752Z
UID:324-1490419800-1490419800@greaterfaithcc.org
SUMMARY:Route 66 Men's Fellowship Breakfast - @ GFCC - 9:30am
DESCRIPTION:
URL:https://greaterfaithcc.org/event/route-66-mens-fellowship-breakfast-gfcc-930am/
END:VEVENT
BEGIN:VEVENT
DTSTART;TZID=America/Detroit:20170313T110000
DTEND;TZID=America/Detroit:20170313T120000
DTSTAMP:20260425T072240
CREATED:20170110T084937Z
LAST-MODIFIED:20170110T084937Z
UID:325-1489402800-1489406400@greaterfaithcc.org
SUMMARY:Mobile Food Pantry - Casco United Methodist Church - 3:00pm - 4:00pm
DESCRIPTION:
URL:https://greaterfaithcc.org/event/mobile-food-pantry-casco-united-methodist-church-300pm-400pm-2/
END:VEVENT
BEGIN:VEVENT
DTSTART;TZID=America/Detroit:20170312T060000
DTEND;TZID=America/Detroit:20170312T060000
DTSTAMP:20260425T072240
CREATED:20170110T085032Z
LAST-MODIFIED:20170110T085032Z
UID:326-1489298400-1489298400@greaterfaithcc.org
SUMMARY:Board of Trustee's meeting - 10am
DESCRIPTION:
URL:https://greaterfaithcc.org/event/board-of-trustees-meeting-10am-3/
END:VEVENT
BEGIN:VEVENT
DTSTART;TZID=America/Detroit:20170301T130000
DTEND;TZID=America/Detroit:20170301T130000
DTSTAMP:20260425T072240
CREATED:20170217T231355Z
LAST-MODIFIED:20170217T231355Z
UID:334-1488373200-1488373200@greaterfaithcc.org
SUMMARY:Ash Wednesday Service @ GFCC - March 1st\, 6pm
DESCRIPTION:This year’s Ash Wednesday service will be held at Greater Faith Community Church @ 6pm.  Pastor Don from Casco United Methodist Church will be the speaker.  Light refreshments will follow the service in the fellowship hall.
URL:https://greaterfaithcc.org/event/ash-wednesday-service-gfcc-march-1st-6pm/
END:VEVENT
BEGIN:VEVENT
DTSTART;TZID=America/Detroit:20170225T043000
DTEND;TZID=America/Detroit:20170225T043000
DTSTAMP:20260425T072240
CREATED:20170110T084251Z
LAST-MODIFIED:20170110T084251Z
UID:322-1487997000-1487997000@greaterfaithcc.org
SUMMARY:Route 66 Men's Fellowship Breakfast - @ Kibbie Christian Reformed Church - 9:30 am
DESCRIPTION:
URL:https://greaterfaithcc.org/event/route-66-mens-fellowship-breakfast-kibbie-christian-reformed-church-930-am/
END:VEVENT
BEGIN:VEVENT
DTSTART;TZID=America/Detroit:20170213T100000
DTEND;TZID=America/Detroit:20170213T110000
DTSTAMP:20260425T072240
CREATED:20170110T084451Z
LAST-MODIFIED:20170110T084451Z
UID:323-1486980000-1486983600@greaterfaithcc.org
SUMMARY:Mobile Food Pantry @ Casco United Methodist Church - 3:00pm - 4:00pm
DESCRIPTION:
URL:https://greaterfaithcc.org/event/mobile-food-pantry-casco-united-methodist-church-300pm-400pm/
END:VEVENT
BEGIN:VEVENT
DTSTART;TZID=America/Detroit:20170212T050000
DTEND;TZID=America/Detroit:20170212T050000
DTSTAMP:20260425T072240
CREATED:20170110T084002Z
LAST-MODIFIED:20170110T084002Z
UID:321-1486875600-1486875600@greaterfaithcc.org
SUMMARY:Board of Trustee's meeting - 10 am
DESCRIPTION:
URL:https://greaterfaithcc.org/event/board-of-trustees-meeting-10-am-2/
END:VEVENT
BEGIN:VEVENT
DTSTART;TZID=America/Detroit:20170129T073000
DTEND;TZID=America/Detroit:20170129T073000
DTSTAMP:20260425T072240
CREATED:20170110T075950Z
LAST-MODIFIED:20170122T091947Z
UID:317-1485675000-1485675000@greaterfaithcc.org
SUMMARY:5th Sunday Blessed Luncheon - @ KIBBIE Christian Reformed Church
DESCRIPTION:
URL:https://greaterfaithcc.org/event/5th-sunday-blessed-luncheon-gfcc-following-morning-service/
END:VEVENT
BEGIN:VEVENT
DTSTART;TZID=America/Detroit:20170128T043000
DTEND;TZID=America/Detroit:20170128T043000
DTSTAMP:20260425T072240
CREATED:20170110T075640Z
LAST-MODIFIED:20170110T075640Z
UID:315-1485577800-1485577800@greaterfaithcc.org
SUMMARY:Route 66 Men's Fellowship Breakfast - @ Casco United Methodist Church - 9:30 am
DESCRIPTION:
URL:https://greaterfaithcc.org/event/route-66-mens-fellowship-breakfast-casco-united-methodist-church-930-am-2/
END:VEVENT
BEGIN:VEVENT
DTSTART;TZID=America/Detroit:20170115T050000
DTEND;TZID=America/Detroit:20170115T080000
DTSTAMP:20260425T072240
CREATED:20170110T075811Z
LAST-MODIFIED:20170110T075811Z
UID:316-1484456400-1484467200@greaterfaithcc.org
SUMMARY:Board of Trustee Meeting - 10 am; Annual Business Meeting - immediately following morning service
DESCRIPTION:
URL:https://greaterfaithcc.org/event/board-of-trustee-meeting-10-am-annual-business-meeting-immediately-following-morning-service/
END:VEVENT
BEGIN:VEVENT
DTSTART;TZID=America/Detroit:20161231T060000
DTEND;TZID=America/Detroit:20161231T060000
DTSTAMP:20260425T072240
CREATED:20160903T050757Z
LAST-MODIFIED:20161204T105621Z
UID:281-1483164000-1483164000@greaterfaithcc.org
SUMMARY:Greater Faith Community Church Watch Service - 11 AM - Blessed Potluck Luncheon following service
DESCRIPTION:
URL:https://greaterfaithcc.org/event/greater-faith-community-church-watch-service-10-pm/
END:VEVENT
BEGIN:VEVENT
DTSTART;TZID=America/Detroit:20161217T080000
DTEND;TZID=America/Detroit:20161217T103000
DTSTAMP:20260425T072240
CREATED:20161009T063719Z
LAST-MODIFIED:20161204T110649Z
UID:290-1481961600-1481970600@greaterfaithcc.org
SUMMARY:Christmas Event @ Kibbie Christian Reformed Church - 1:00pm - 3:30pm - TIME and DATE change!!!
DESCRIPTION:Please contact Kibbie Christian Reformed Church for more information.
URL:https://greaterfaithcc.org/event/christmas-event-kibbie-christian-reformed-church-more-details-to-come/
END:VEVENT
BEGIN:VEVENT
DTSTART;TZID=America/Detroit:20161217T043000
DTEND;TZID=America/Detroit:20161217T043000
DTSTAMP:20260425T072240
CREATED:20161009T063439Z
LAST-MODIFIED:20161204T110517Z
UID:289-1481949000-1481949000@greaterfaithcc.org
SUMMARY:Route 66 Men's Fellowship Breakfast @ Greater Faith Community Church - 9:30 am
DESCRIPTION:Due to Holiday\, Route 66 Men’s fellowship will be meeting on the 3rd Saturday this month.
URL:https://greaterfaithcc.org/event/route-66-mens-fellowship-breakfast-greater-faith-community-church-830-am/
END:VEVENT
BEGIN:VEVENT
DTSTART;TZID=America/Detroit:20161211T050000
DTEND;TZID=America/Detroit:20161211T050000
DTSTAMP:20260425T072240
CREATED:20161009T064840Z
LAST-MODIFIED:20161009T064840Z
UID:294-1481432400-1481432400@greaterfaithcc.org
SUMMARY:Board of Trustee Meeting - 10 am
DESCRIPTION:
URL:https://greaterfaithcc.org/event/board-of-trustee-meeting-10-am-2/
END:VEVENT
BEGIN:VEVENT
DTSTART;TZID=America/Detroit:20161120T130000
DTEND;TZID=America/Detroit:20161120T130000
DTSTAMP:20260425T072240
CREATED:20161009T062809Z
LAST-MODIFIED:20161009T062809Z
UID:287-1479646800-1479646800@greaterfaithcc.org
SUMMARY:Thanksgiving Service @ Greater Faith Community Church - 6 pm
DESCRIPTION:
URL:https://greaterfaithcc.org/event/thanksgiving-service-greater-faith-community-church-6-pm/
END:VEVENT
BEGIN:VEVENT
DTSTART;TZID=America/Detroit:20161119T033000
DTEND;TZID=America/Detroit:20161119T033000
DTSTAMP:20260425T072240
CREATED:20161009T063254Z
LAST-MODIFIED:20161024T212947Z
UID:288-1479526200-1479526200@greaterfaithcc.org
SUMMARY:Route 66 Men's Fellowship Breakfast @ Kibbie Christian Reformed Church - 8:30 am
DESCRIPTION:Due to holiday\, Route 66 Men’s fellowship will meet on the 3rd Saturday of this month
URL:https://greaterfaithcc.org/event/route-66-mens-fellowship-breakfast-kibbie-christian-reformed-church-830-am/
END:VEVENT
BEGIN:VEVENT
DTSTART;TZID=America/Detroit:20161113T050000
DTEND;TZID=America/Detroit:20161113T050000
DTSTAMP:20260425T072240
CREATED:20161009T064726Z
LAST-MODIFIED:20161009T064726Z
UID:293-1479013200-1479013200@greaterfaithcc.org
SUMMARY:Board of Trustee Meeting - 10 am
DESCRIPTION:
URL:https://greaterfaithcc.org/event/board-of-trustee-meeting-10-am/
END:VEVENT
BEGIN:VEVENT
DTSTART;TZID=America/Detroit:20161112T033000
DTEND;TZID=America/Detroit:20161112T090000
DTSTAMP:20260425T072240
CREATED:20160903T050619Z
LAST-MODIFIED:20161009T062453Z
UID:280-1478921400-1478941200@greaterfaithcc.org
SUMMARY:Greater Faith Community Church Annual Women's Fellowship Meeting @ Kibbie Christian Reformed Church Fellowship Hall - 8:30 am - 2 pm - RSVP by November 1
DESCRIPTION:Our Greater Faith Community Church Fall Women’s meeting has grown. We are meeting at Kibbie Christian Reformed Church. PLEASE RSVP to Pastor Bernice Thomas by November 1\, 2016
URL:https://greaterfaithcc.org/event/route-66-annual-womens-meeting-more-details-to-come-soon/
END:VEVENT
BEGIN:VEVENT
DTSTART;TZID=America/Detroit:20161030T083000
DTEND;TZID=America/Detroit:20161030T083000
DTSTAMP:20260425T072240
CREATED:20160903T050055Z
LAST-MODIFIED:20161009T064258Z
UID:277-1477816200-1477816200@greaterfaithcc.org
SUMMARY:5th Sunday Blessed Potluck Fellowship - @ Kibbie CRC - Immediately following morning service
DESCRIPTION:
URL:https://greaterfaithcc.org/event/5th-sunday-blessed-pot-fellowship-kibbie-crc-immediately-following-morning-service/
END:VEVENT
BEGIN:VEVENT
DTSTART;TZID=America/Detroit:20161026T143000
DTEND;TZID=America/Detroit:20161026T153000
DTSTAMP:20260425T072240
CREATED:20160903T045553Z
LAST-MODIFIED:20161009T064057Z
UID:274-1477492200-1477495800@greaterfaithcc.org
SUMMARY:Bible Study - 6:30 - 7:30 pm - Last Bible Study of 2016 - Bible Study will resume in Spring 2017
DESCRIPTION:Bible Study will resume in Spring 2017.
URL:https://greaterfaithcc.org/event/bible-study-630-730-pm-5/
END:VEVENT
BEGIN:VEVENT
DTSTART;TZID=America/Detroit:20161022T053000
DTEND;TZID=America/Detroit:20161022T053000
DTSTAMP:20260425T072240
CREATED:20160903T045815Z
LAST-MODIFIED:20160903T045815Z
UID:276-1477114200-1477114200@greaterfaithcc.org
SUMMARY:Route 66 Men's Fellowship Breakfast - 9:30 am @ Casco United Methodist Church
DESCRIPTION:
URL:https://greaterfaithcc.org/event/route-66-mens-fellowship-breakfast-930-am-casco-united-methodist-church/
END:VEVENT
END:VCALENDAR