BEGIN:VCALENDAR
VERSION:2.0
PRODID:-//Greater Faith Community Church - ECPv6.15.20//NONSGML v1.0//EN
CALSCALE:GREGORIAN
METHOD:PUBLISH
X-WR-CALNAME:Greater Faith Community Church
X-ORIGINAL-URL:https://greaterfaithcc.org
X-WR-CALDESC:Events for Greater Faith Community Church
REFRESH-INTERVAL;VALUE=DURATION:PT1H
X-Robots-Tag:noindex
X-PUBLISHED-TTL:PT1H
BEGIN:VTIMEZONE
TZID:America/Detroit
BEGIN:DAYLIGHT
TZOFFSETFROM:-0500
TZOFFSETTO:-0400
TZNAME:EDT
DTSTART:20150308T070000
END:DAYLIGHT
BEGIN:STANDARD
TZOFFSETFROM:-0400
TZOFFSETTO:-0500
TZNAME:EST
DTSTART:20151101T060000
END:STANDARD
BEGIN:DAYLIGHT
TZOFFSETFROM:-0500
TZOFFSETTO:-0400
TZNAME:EDT
DTSTART:20160313T070000
END:DAYLIGHT
BEGIN:STANDARD
TZOFFSETFROM:-0400
TZOFFSETTO:-0500
TZNAME:EST
DTSTART:20161106T060000
END:STANDARD
BEGIN:DAYLIGHT
TZOFFSETFROM:-0500
TZOFFSETTO:-0400
TZNAME:EDT
DTSTART:20170312T070000
END:DAYLIGHT
BEGIN:STANDARD
TZOFFSETFROM:-0400
TZOFFSETTO:-0500
TZNAME:EST
DTSTART:20171105T060000
END:STANDARD
END:VTIMEZONE
BEGIN:VEVENT
DTSTART;TZID=America/Detroit:20161217T080000
DTEND;TZID=America/Detroit:20161217T103000
DTSTAMP:20260425T105707
CREATED:20161009T063719Z
LAST-MODIFIED:20161204T110649Z
UID:290-1481961600-1481970600@greaterfaithcc.org
SUMMARY:Christmas Event @ Kibbie Christian Reformed Church - 1:00pm - 3:30pm - TIME and DATE change!!!
DESCRIPTION:Please contact Kibbie Christian Reformed Church for more information.
URL:https://greaterfaithcc.org/event/christmas-event-kibbie-christian-reformed-church-more-details-to-come/
END:VEVENT
BEGIN:VEVENT
DTSTART;TZID=America/Detroit:20161217T043000
DTEND;TZID=America/Detroit:20161217T043000
DTSTAMP:20260425T105707
CREATED:20161009T063439Z
LAST-MODIFIED:20161204T110517Z
UID:289-1481949000-1481949000@greaterfaithcc.org
SUMMARY:Route 66 Men's Fellowship Breakfast @ Greater Faith Community Church - 9:30 am
DESCRIPTION:Due to Holiday\, Route 66 Men’s fellowship will be meeting on the 3rd Saturday this month.
URL:https://greaterfaithcc.org/event/route-66-mens-fellowship-breakfast-greater-faith-community-church-830-am/
END:VEVENT
BEGIN:VEVENT
DTSTART;TZID=America/Detroit:20161211T050000
DTEND;TZID=America/Detroit:20161211T050000
DTSTAMP:20260425T105707
CREATED:20161009T064840Z
LAST-MODIFIED:20161009T064840Z
UID:294-1481432400-1481432400@greaterfaithcc.org
SUMMARY:Board of Trustee Meeting - 10 am
DESCRIPTION:
URL:https://greaterfaithcc.org/event/board-of-trustee-meeting-10-am-2/
END:VEVENT
BEGIN:VEVENT
DTSTART;TZID=America/Detroit:20161120T130000
DTEND;TZID=America/Detroit:20161120T130000
DTSTAMP:20260425T105707
CREATED:20161009T062809Z
LAST-MODIFIED:20161009T062809Z
UID:287-1479646800-1479646800@greaterfaithcc.org
SUMMARY:Thanksgiving Service @ Greater Faith Community Church - 6 pm
DESCRIPTION:
URL:https://greaterfaithcc.org/event/thanksgiving-service-greater-faith-community-church-6-pm/
END:VEVENT
BEGIN:VEVENT
DTSTART;TZID=America/Detroit:20161119T033000
DTEND;TZID=America/Detroit:20161119T033000
DTSTAMP:20260425T105707
CREATED:20161009T063254Z
LAST-MODIFIED:20161024T212947Z
UID:288-1479526200-1479526200@greaterfaithcc.org
SUMMARY:Route 66 Men's Fellowship Breakfast @ Kibbie Christian Reformed Church - 8:30 am
DESCRIPTION:Due to holiday\, Route 66 Men’s fellowship will meet on the 3rd Saturday of this month
URL:https://greaterfaithcc.org/event/route-66-mens-fellowship-breakfast-kibbie-christian-reformed-church-830-am/
END:VEVENT
BEGIN:VEVENT
DTSTART;TZID=America/Detroit:20161113T050000
DTEND;TZID=America/Detroit:20161113T050000
DTSTAMP:20260425T105707
CREATED:20161009T064726Z
LAST-MODIFIED:20161009T064726Z
UID:293-1479013200-1479013200@greaterfaithcc.org
SUMMARY:Board of Trustee Meeting - 10 am
DESCRIPTION:
URL:https://greaterfaithcc.org/event/board-of-trustee-meeting-10-am/
END:VEVENT
BEGIN:VEVENT
DTSTART;TZID=America/Detroit:20161112T033000
DTEND;TZID=America/Detroit:20161112T090000
DTSTAMP:20260425T105707
CREATED:20160903T050619Z
LAST-MODIFIED:20161009T062453Z
UID:280-1478921400-1478941200@greaterfaithcc.org
SUMMARY:Greater Faith Community Church Annual Women's Fellowship Meeting @ Kibbie Christian Reformed Church Fellowship Hall - 8:30 am - 2 pm - RSVP by November 1
DESCRIPTION:Our Greater Faith Community Church Fall Women’s meeting has grown. We are meeting at Kibbie Christian Reformed Church. PLEASE RSVP to Pastor Bernice Thomas by November 1\, 2016
URL:https://greaterfaithcc.org/event/route-66-annual-womens-meeting-more-details-to-come-soon/
END:VEVENT
BEGIN:VEVENT
DTSTART;TZID=America/Detroit:20161030T083000
DTEND;TZID=America/Detroit:20161030T083000
DTSTAMP:20260425T105707
CREATED:20160903T050055Z
LAST-MODIFIED:20161009T064258Z
UID:277-1477816200-1477816200@greaterfaithcc.org
SUMMARY:5th Sunday Blessed Potluck Fellowship - @ Kibbie CRC - Immediately following morning service
DESCRIPTION:
URL:https://greaterfaithcc.org/event/5th-sunday-blessed-pot-fellowship-kibbie-crc-immediately-following-morning-service/
END:VEVENT
BEGIN:VEVENT
DTSTART;TZID=America/Detroit:20161026T143000
DTEND;TZID=America/Detroit:20161026T153000
DTSTAMP:20260425T105707
CREATED:20160903T045553Z
LAST-MODIFIED:20161009T064057Z
UID:274-1477492200-1477495800@greaterfaithcc.org
SUMMARY:Bible Study - 6:30 - 7:30 pm - Last Bible Study of 2016 - Bible Study will resume in Spring 2017
DESCRIPTION:Bible Study will resume in Spring 2017.
URL:https://greaterfaithcc.org/event/bible-study-630-730-pm-5/
END:VEVENT
BEGIN:VEVENT
DTSTART;TZID=America/Detroit:20161022T053000
DTEND;TZID=America/Detroit:20161022T053000
DTSTAMP:20260425T105707
CREATED:20160903T045815Z
LAST-MODIFIED:20160903T045815Z
UID:276-1477114200-1477114200@greaterfaithcc.org
SUMMARY:Route 66 Men's Fellowship Breakfast - 9:30 am @ Casco United Methodist Church
DESCRIPTION:
URL:https://greaterfaithcc.org/event/route-66-mens-fellowship-breakfast-930-am-casco-united-methodist-church/
END:VEVENT
BEGIN:VEVENT
DTSTART;TZID=America/Detroit:20161019T143000
DTEND;TZID=America/Detroit:20161019T153000
DTSTAMP:20260425T105707
CREATED:20160903T045508Z
LAST-MODIFIED:20160903T045508Z
UID:273-1476887400-1476891000@greaterfaithcc.org
SUMMARY:Bible Study - 6:30 - 7:30 pm
DESCRIPTION:
URL:https://greaterfaithcc.org/event/bible-study-630-730-pm-4/
END:VEVENT
BEGIN:VEVENT
DTSTART;TZID=America/Detroit:20161019T130000
DTEND;TZID=America/Detroit:20161019T141500
DTSTAMP:20260425T105707
CREATED:20160903T045706Z
LAST-MODIFIED:20160903T045706Z
UID:275-1476882000-1476886500@greaterfaithcc.org
SUMMARY:Greater Faith Women's Meeting - 5pm - 6:15pm
DESCRIPTION:Greater Faith Community Church Fellowship Hall
URL:https://greaterfaithcc.org/event/greater-faith-womens-meeting-5pm-615pm/
END:VEVENT
BEGIN:VEVENT
DTSTART;TZID=America/Detroit:20161016T083000
DTEND;TZID=America/Detroit:20161016T083000
DTSTAMP:20260425T105707
CREATED:20160903T050322Z
LAST-MODIFIED:20160903T050322Z
UID:279-1476606600-1476606600@greaterfaithcc.org
SUMMARY:Pastor's Appreciation - Immediately following morning service
DESCRIPTION:
URL:https://greaterfaithcc.org/event/pastors-appreciation-immediately-following-morning-service/
END:VEVENT
BEGIN:VEVENT
DTSTART;TZID=America/Detroit:20161012T143000
DTEND;TZID=America/Detroit:20161012T153000
DTSTAMP:20260425T105707
CREATED:20160903T045416Z
LAST-MODIFIED:20160903T045416Z
UID:272-1476282600-1476286200@greaterfaithcc.org
SUMMARY:Bible Study - 6:30 - 7:30 pm
DESCRIPTION:
URL:https://greaterfaithcc.org/event/bible-study-630-730-pm-3/
END:VEVENT
BEGIN:VEVENT
DTSTART;TZID=America/Detroit:20161009T060000
DTEND;TZID=America/Detroit:20161009T060000
DTSTAMP:20260425T105707
CREATED:20160903T050223Z
LAST-MODIFIED:20160903T050223Z
UID:278-1475992800-1475992800@greaterfaithcc.org
SUMMARY:Board of Trustee's Meeting - 10am
DESCRIPTION:
URL:https://greaterfaithcc.org/event/board-of-trustees-meeting-10am/
END:VEVENT
BEGIN:VEVENT
DTSTART;TZID=America/Detroit:20161008T043000
DTEND;TZID=America/Detroit:20161008T100000
DTSTAMP:20260425T105707
CREATED:20161009T062657Z
LAST-MODIFIED:20161009T062657Z
UID:286-1475901000-1475920800@greaterfaithcc.org
SUMMARY:ICCC - Michigan Fellowship Fall meeting - Emmanuel Community Church - 8:30 am - 2:00 pm
DESCRIPTION:
URL:https://greaterfaithcc.org/event/iccc-michigan-fellowship-fall-meeting-emmanuel-community-church-830-am-200-pm/
END:VEVENT
BEGIN:VEVENT
DTSTART;TZID=America/Detroit:20161005T143000
DTEND;TZID=America/Detroit:20161005T153000
DTSTAMP:20260425T105707
CREATED:20160903T045311Z
LAST-MODIFIED:20160903T045311Z
UID:271-1475677800-1475681400@greaterfaithcc.org
SUMMARY:Bible Study - 6:30 - 7:30 pm
DESCRIPTION:
URL:https://greaterfaithcc.org/event/bible-study-630-730-pm-2/
END:VEVENT
BEGIN:VEVENT
DTSTART;TZID=America/Detroit:20160928T143000
DTEND;TZID=America/Detroit:20160928T153000
DTSTAMP:20260425T105707
CREATED:20160903T044454Z
LAST-MODIFIED:20160903T044454Z
UID:269-1475073000-1475076600@greaterfaithcc.org
SUMMARY:Bible Study - 6:30 - 7:30 pm
DESCRIPTION:
URL:https://greaterfaithcc.org/event/bible-study-630-730-pm/
END:VEVENT
BEGIN:VEVENT
DTSTART;TZID=America/Detroit:20160924T053000
DTEND;TZID=America/Detroit:20160924T053000
DTSTAMP:20260425T105707
CREATED:20160903T043809Z
LAST-MODIFIED:20160903T044758Z
UID:263-1474695000-1474695000@greaterfaithcc.org
SUMMARY:Route 66 Men's Fellowship Breakfast @ Greater Faith Community Church - 9:30 am
DESCRIPTION:
URL:https://greaterfaithcc.org/event/route-66-mens-fellowship-breakfast-greater-faith-community-church-september-24-930-am/
END:VEVENT
BEGIN:VEVENT
DTSTART;TZID=America/Detroit:20160921T143000
DTEND;TZID=America/Detroit:20160921T153000
DTSTAMP:20260425T105707
CREATED:20160903T044406Z
LAST-MODIFIED:20160903T044835Z
UID:268-1474468200-1474471800@greaterfaithcc.org
SUMMARY:Bible Study - 6:30 - 7:30 pm
DESCRIPTION:
URL:https://greaterfaithcc.org/event/bible-study-september-21-630-730-pm/
END:VEVENT
BEGIN:VEVENT
DTSTART;TZID=America/Detroit:20160921T130000
DTEND;TZID=America/Detroit:20160921T141500
DTSTAMP:20260425T105707
CREATED:20160903T043939Z
LAST-MODIFIED:20160903T044925Z
UID:264-1474462800-1474467300@greaterfaithcc.org
SUMMARY:Greater Faith Community Church Women's Meeting -  5pm - 6:15pm
DESCRIPTION:Greater Faith Fellowship Hall
URL:https://greaterfaithcc.org/event/greater-faith-community-church-womens-meeting-september-21-5pm/
END:VEVENT
BEGIN:VEVENT
DTSTART;TZID=America/Detroit:20160914T143000
DTEND;TZID=America/Detroit:20160914T153000
DTSTAMP:20260425T105707
CREATED:20160903T044317Z
LAST-MODIFIED:20160903T045006Z
UID:267-1473863400-1473867000@greaterfaithcc.org
SUMMARY:Bible Study -  6:30 - 7:30 pm
DESCRIPTION:
URL:https://greaterfaithcc.org/event/bible-study-september-14-630-730-pm/
END:VEVENT
BEGIN:VEVENT
DTSTART;TZID=America/Detroit:20160911T060000
DTEND;TZID=America/Detroit:20160911T064500
DTSTAMP:20260425T105707
CREATED:20160903T044049Z
LAST-MODIFIED:20160903T045039Z
UID:265-1473573600-1473576300@greaterfaithcc.org
SUMMARY:Board of Trustee's meeting - 10 am
DESCRIPTION:
URL:https://greaterfaithcc.org/event/board-of-trustees-meeting-september-11-10-am/
END:VEVENT
BEGIN:VEVENT
DTSTART;TZID=America/Detroit:20160907T143000
DTEND;TZID=America/Detroit:20160907T153000
DTSTAMP:20260425T105707
CREATED:20160903T044222Z
LAST-MODIFIED:20160903T045110Z
UID:266-1473258600-1473262200@greaterfaithcc.org
SUMMARY:Bible Study - 6:30 - 7:30 pm
DESCRIPTION:
URL:https://greaterfaithcc.org/event/bible-study-september-7-630-730-pm/
END:VEVENT
BEGIN:VEVENT
DTSTART;TZID=America/Detroit:20160831T143000
DTEND;TZID=America/Detroit:20160831T153000
DTSTAMP:20260425T105707
CREATED:20160804T195435Z
LAST-MODIFIED:20160804T195435Z
UID:260-1472653800-1472657400@greaterfaithcc.org
SUMMARY:Bible Study - 6:30 pm - 7:30 pm
DESCRIPTION:
URL:https://greaterfaithcc.org/event/bible-study-630-pm-730-pm-8/
END:VEVENT
BEGIN:VEVENT
DTSTART;TZID=America/Detroit:20160827T053000
DTEND;TZID=America/Detroit:20160827T053000
DTSTAMP:20260425T105707
CREATED:20160804T195149Z
LAST-MODIFIED:20160804T195149Z
UID:257-1472275800-1472275800@greaterfaithcc.org
SUMMARY:Route 66 Men's Fellowship breakfast - Kibbie Christian Reformed - 9:30 am
DESCRIPTION:
URL:https://greaterfaithcc.org/event/route-66-mens-fellowship-breakfast-kibbie-christian-reformed-930-am/
END:VEVENT
BEGIN:VEVENT
DTSTART;TZID=America/Detroit:20160824T143000
DTEND;TZID=America/Detroit:20160824T153000
DTSTAMP:20260425T105708
CREATED:20160804T195359Z
LAST-MODIFIED:20160804T195359Z
UID:259-1472049000-1472052600@greaterfaithcc.org
SUMMARY:Bible Study - 6:30 pm - 7:30 pm
DESCRIPTION:
URL:https://greaterfaithcc.org/event/bible-study-630-pm-730-pm-7/
END:VEVENT
BEGIN:VEVENT
DTSTART;TZID=America/Detroit:20160820T140000
DTEND;TZID=America/Detroit:20160820T140000
DTSTAMP:20260425T105708
CREATED:20160804T195621Z
LAST-MODIFIED:20160804T195621Z
UID:261-1471701600-1471701600@greaterfaithcc.org
SUMMARY:Community Dinner @ Kibbie Christian Reformed Church
DESCRIPTION:More information to come
URL:https://greaterfaithcc.org/event/community-dinner-kibbie-christian-reformed-church/
END:VEVENT
BEGIN:VEVENT
DTSTART;TZID=America/Detroit:20160819T130000
DTEND;TZID=America/Detroit:20160819T160000
DTSTAMP:20260425T105708
CREATED:20160804T194413Z
LAST-MODIFIED:20160804T194931Z
UID:253-1471611600-1471622400@greaterfaithcc.org
SUMMARY:Community Vacation Bible School @ Emmanuel Community Church - 5pm - 8:30pm - August 16 -19
DESCRIPTION:FAMILY FUN NIGHT
URL:https://greaterfaithcc.org/event/community-vacation-bible-school-emmanuel-community-church-5pm-830pm-august-16-19-4/
END:VEVENT
BEGIN:VEVENT
DTSTART;TZID=America/Detroit:20160818T130000
DTEND;TZID=America/Detroit:20160818T163000
DTSTAMP:20260425T105708
CREATED:20160804T194127Z
LAST-MODIFIED:20160804T194127Z
UID:252-1471525200-1471537800@greaterfaithcc.org
SUMMARY:Community Vacation Bible School @ Emmanuel Community Church - 5pm - 8:30pm - August 16 -19
DESCRIPTION:FAMILY oriented\, classes for ALL ages – baby through adult\, including classes for clergy. \nNO babysitter on premises\, BUT parents are welcome to bring their babies with them. \nMeal served first every evening. \n 
URL:https://greaterfaithcc.org/event/community-vacation-bible-school-emmanuel-community-church-5pm-830pm-august-16-19-3/
END:VEVENT
END:VCALENDAR