BEGIN:VCALENDAR
VERSION:2.0
PRODID:-//Greater Faith Community Church - ECPv6.15.20//NONSGML v1.0//EN
CALSCALE:GREGORIAN
METHOD:PUBLISH
X-WR-CALNAME:Greater Faith Community Church
X-ORIGINAL-URL:https://greaterfaithcc.org
X-WR-CALDESC:Events for Greater Faith Community Church
REFRESH-INTERVAL;VALUE=DURATION:PT1H
X-Robots-Tag:noindex
X-PUBLISHED-TTL:PT1H
BEGIN:VTIMEZONE
TZID:America/Detroit
BEGIN:DAYLIGHT
TZOFFSETFROM:-0500
TZOFFSETTO:-0400
TZNAME:EDT
DTSTART:20150308T070000
END:DAYLIGHT
BEGIN:STANDARD
TZOFFSETFROM:-0400
TZOFFSETTO:-0500
TZNAME:EST
DTSTART:20151101T060000
END:STANDARD
BEGIN:DAYLIGHT
TZOFFSETFROM:-0500
TZOFFSETTO:-0400
TZNAME:EDT
DTSTART:20160313T070000
END:DAYLIGHT
BEGIN:STANDARD
TZOFFSETFROM:-0400
TZOFFSETTO:-0500
TZNAME:EST
DTSTART:20161106T060000
END:STANDARD
BEGIN:DAYLIGHT
TZOFFSETFROM:-0500
TZOFFSETTO:-0400
TZNAME:EDT
DTSTART:20170312T070000
END:DAYLIGHT
BEGIN:STANDARD
TZOFFSETFROM:-0400
TZOFFSETTO:-0500
TZNAME:EST
DTSTART:20171105T060000
END:STANDARD
END:VTIMEZONE
BEGIN:VEVENT
DTSTART;TZID=America/Detroit:20160921T130000
DTEND;TZID=America/Detroit:20160921T141500
DTSTAMP:20260425T143946
CREATED:20160903T043939Z
LAST-MODIFIED:20160903T044925Z
UID:264-1474462800-1474467300@greaterfaithcc.org
SUMMARY:Greater Faith Community Church Women's Meeting -  5pm - 6:15pm
DESCRIPTION:Greater Faith Fellowship Hall
URL:https://greaterfaithcc.org/event/greater-faith-community-church-womens-meeting-september-21-5pm/
END:VEVENT
BEGIN:VEVENT
DTSTART;TZID=America/Detroit:20160914T143000
DTEND;TZID=America/Detroit:20160914T153000
DTSTAMP:20260425T143946
CREATED:20160903T044317Z
LAST-MODIFIED:20160903T045006Z
UID:267-1473863400-1473867000@greaterfaithcc.org
SUMMARY:Bible Study -  6:30 - 7:30 pm
DESCRIPTION:
URL:https://greaterfaithcc.org/event/bible-study-september-14-630-730-pm/
END:VEVENT
BEGIN:VEVENT
DTSTART;TZID=America/Detroit:20160911T060000
DTEND;TZID=America/Detroit:20160911T064500
DTSTAMP:20260425T143946
CREATED:20160903T044049Z
LAST-MODIFIED:20160903T045039Z
UID:265-1473573600-1473576300@greaterfaithcc.org
SUMMARY:Board of Trustee's meeting - 10 am
DESCRIPTION:
URL:https://greaterfaithcc.org/event/board-of-trustees-meeting-september-11-10-am/
END:VEVENT
BEGIN:VEVENT
DTSTART;TZID=America/Detroit:20160907T143000
DTEND;TZID=America/Detroit:20160907T153000
DTSTAMP:20260425T143946
CREATED:20160903T044222Z
LAST-MODIFIED:20160903T045110Z
UID:266-1473258600-1473262200@greaterfaithcc.org
SUMMARY:Bible Study - 6:30 - 7:30 pm
DESCRIPTION:
URL:https://greaterfaithcc.org/event/bible-study-september-7-630-730-pm/
END:VEVENT
BEGIN:VEVENT
DTSTART;TZID=America/Detroit:20160831T143000
DTEND;TZID=America/Detroit:20160831T153000
DTSTAMP:20260425T143946
CREATED:20160804T195435Z
LAST-MODIFIED:20160804T195435Z
UID:260-1472653800-1472657400@greaterfaithcc.org
SUMMARY:Bible Study - 6:30 pm - 7:30 pm
DESCRIPTION:
URL:https://greaterfaithcc.org/event/bible-study-630-pm-730-pm-8/
END:VEVENT
BEGIN:VEVENT
DTSTART;TZID=America/Detroit:20160827T053000
DTEND;TZID=America/Detroit:20160827T053000
DTSTAMP:20260425T143946
CREATED:20160804T195149Z
LAST-MODIFIED:20160804T195149Z
UID:257-1472275800-1472275800@greaterfaithcc.org
SUMMARY:Route 66 Men's Fellowship breakfast - Kibbie Christian Reformed - 9:30 am
DESCRIPTION:
URL:https://greaterfaithcc.org/event/route-66-mens-fellowship-breakfast-kibbie-christian-reformed-930-am/
END:VEVENT
BEGIN:VEVENT
DTSTART;TZID=America/Detroit:20160824T143000
DTEND;TZID=America/Detroit:20160824T153000
DTSTAMP:20260425T143946
CREATED:20160804T195359Z
LAST-MODIFIED:20160804T195359Z
UID:259-1472049000-1472052600@greaterfaithcc.org
SUMMARY:Bible Study - 6:30 pm - 7:30 pm
DESCRIPTION:
URL:https://greaterfaithcc.org/event/bible-study-630-pm-730-pm-7/
END:VEVENT
BEGIN:VEVENT
DTSTART;TZID=America/Detroit:20160820T140000
DTEND;TZID=America/Detroit:20160820T140000
DTSTAMP:20260425T143946
CREATED:20160804T195621Z
LAST-MODIFIED:20160804T195621Z
UID:261-1471701600-1471701600@greaterfaithcc.org
SUMMARY:Community Dinner @ Kibbie Christian Reformed Church
DESCRIPTION:More information to come
URL:https://greaterfaithcc.org/event/community-dinner-kibbie-christian-reformed-church/
END:VEVENT
BEGIN:VEVENT
DTSTART;TZID=America/Detroit:20160819T130000
DTEND;TZID=America/Detroit:20160819T160000
DTSTAMP:20260425T143946
CREATED:20160804T194413Z
LAST-MODIFIED:20160804T194931Z
UID:253-1471611600-1471622400@greaterfaithcc.org
SUMMARY:Community Vacation Bible School @ Emmanuel Community Church - 5pm - 8:30pm - August 16 -19
DESCRIPTION:FAMILY FUN NIGHT
URL:https://greaterfaithcc.org/event/community-vacation-bible-school-emmanuel-community-church-5pm-830pm-august-16-19-4/
END:VEVENT
BEGIN:VEVENT
DTSTART;TZID=America/Detroit:20160818T130000
DTEND;TZID=America/Detroit:20160818T163000
DTSTAMP:20260425T143946
CREATED:20160804T194127Z
LAST-MODIFIED:20160804T194127Z
UID:252-1471525200-1471537800@greaterfaithcc.org
SUMMARY:Community Vacation Bible School @ Emmanuel Community Church - 5pm - 8:30pm - August 16 -19
DESCRIPTION:FAMILY oriented\, classes for ALL ages – baby through adult\, including classes for clergy. \nNO babysitter on premises\, BUT parents are welcome to bring their babies with them. \nMeal served first every evening. \n 
URL:https://greaterfaithcc.org/event/community-vacation-bible-school-emmanuel-community-church-5pm-830pm-august-16-19-3/
END:VEVENT
BEGIN:VEVENT
DTSTART;TZID=America/Detroit:20160817T130000
DTEND;TZID=America/Detroit:20160817T163000
DTSTAMP:20260425T143946
CREATED:20160804T194010Z
LAST-MODIFIED:20160804T194010Z
UID:251-1471438800-1471451400@greaterfaithcc.org
SUMMARY:Community Vacation Bible School @ Emmanuel Community Church - 5pm - 8:30pm - August 16 -19
DESCRIPTION:FAMILY oriented\, classes for ALL ages – baby through adult\, including classes for clergy. \nNO babysitter on premises\, BUT parents are welcome to bring their babies with them. \nMeal served first every evening.
URL:https://greaterfaithcc.org/event/community-vacation-bible-school-emmanuel-community-church-5pm-830pm-august-16-19-2/
END:VEVENT
BEGIN:VEVENT
DTSTART;TZID=America/Detroit:20160816T130000
DTEND;TZID=America/Detroit:20160816T163000
DTSTAMP:20260425T143946
CREATED:20160804T193740Z
LAST-MODIFIED:20160804T193740Z
UID:250-1471352400-1471365000@greaterfaithcc.org
SUMMARY:Community Vacation Bible School @ Emmanuel Community Church - 5pm - 8:30pm - August 16 -19
DESCRIPTION:FAMILY oriented\, classes for ALL ages – baby through adult\, including classes for clergy. \nNO babysitter on premises\, BUT parents are welcome to bring their babies with them. \nMeal served first every evening.
URL:https://greaterfaithcc.org/event/community-vacation-bible-school-emmanuel-community-church-5pm-830pm-august-16-19/
END:VEVENT
BEGIN:VEVENT
DTSTART;TZID=America/Detroit:20160814T110000
DTEND;TZID=America/Detroit:20160814T110000
DTSTAMP:20260425T143946
CREATED:20160804T194759Z
LAST-MODIFIED:20160804T194759Z
UID:256-1471172400-1471172400@greaterfaithcc.org
SUMMARY:BUSH meeting @ Covert Community Church - all are welcome to attend
DESCRIPTION:More information to come
URL:https://greaterfaithcc.org/event/bush-meeting-covert-community-church-all-are-welcome-to-attend/
END:VEVENT
BEGIN:VEVENT
DTSTART;TZID=America/Detroit:20160814T090000
DTEND;TZID=America/Detroit:20160814T090000
DTSTAMP:20260425T143946
CREATED:20160804T194634Z
LAST-MODIFIED:20160804T194634Z
UID:255-1471165200-1471165200@greaterfaithcc.org
SUMMARY:Semi-annual Business meeting - IMMEDIATELY following morning service
DESCRIPTION:
URL:https://greaterfaithcc.org/event/semi-annual-business-meeting-immediately-following-morning-service-2/
END:VEVENT
BEGIN:VEVENT
DTSTART;TZID=America/Detroit:20160814T060000
DTEND;TZID=America/Detroit:20160814T060000
DTSTAMP:20260425T143946
CREATED:20160804T194513Z
LAST-MODIFIED:20160804T194513Z
UID:254-1471154400-1471154400@greaterfaithcc.org
SUMMARY:Board of Trustee's meeting - 10 am
DESCRIPTION:
URL:https://greaterfaithcc.org/event/board-of-trustees-meeting-10-am/
END:VEVENT
BEGIN:VEVENT
DTSTART;TZID=America/Detroit:20160810T143000
DTEND;TZID=America/Detroit:20160810T153000
DTSTAMP:20260425T143946
CREATED:20160804T195310Z
LAST-MODIFIED:20160804T195310Z
UID:258-1470839400-1470843000@greaterfaithcc.org
SUMMARY:Bible Study - 6:30 pm - 7:30 pm
DESCRIPTION:
URL:https://greaterfaithcc.org/event/bible-study-630-pm-730-pm-6/
END:VEVENT
BEGIN:VEVENT
DTSTART;TZID=America/Detroit:20160806T040000
DTEND;TZID=America/Detroit:20160806T040000
DTSTAMP:20260425T143946
CREATED:20160804T193314Z
LAST-MODIFIED:20160804T193314Z
UID:249-1470456000-1470456000@greaterfaithcc.org
SUMMARY:CASCO MUD RUN 8 am
DESCRIPTION:
URL:https://greaterfaithcc.org/event/casco-mud-run-8-am/
END:VEVENT
BEGIN:VEVENT
DTSTART;TZID=America/Detroit:20160731T083000
DTEND;TZID=America/Detroit:20160731T083000
DTSTAMP:20260425T143946
CREATED:20160609T070516Z
LAST-MODIFIED:20160609T070516Z
UID:239-1469953800-1469953800@greaterfaithcc.org
SUMMARY:5th Sunday Blessed Fellowship - @ GFCC Fellowship Hall - Immediately following morning service
DESCRIPTION:
URL:https://greaterfaithcc.org/event/5th-sunday-blessed-fellowship-gfcc-fellowship-hall-immediately-following-morning-service/
END:VEVENT
BEGIN:VEVENT
DTSTART;TZID=America/Detroit:20160727T143000
DTEND;TZID=America/Detroit:20160727T153000
DTSTAMP:20260425T143946
CREATED:20160609T062108Z
LAST-MODIFIED:20160609T062108Z
UID:224-1469629800-1469633400@greaterfaithcc.org
SUMMARY:Bible Study - 6:30 pm - 7:30 pm
DESCRIPTION:
URL:https://greaterfaithcc.org/event/bible-study-630-pm-730-pm-5/
END:VEVENT
BEGIN:VEVENT
DTSTART;TZID=America/Detroit:20160723T053000
DTEND;TZID=America/Detroit:20160723T053000
DTSTAMP:20260425T143946
CREATED:20160609T065639Z
LAST-MODIFIED:20160609T065639Z
UID:237-1469251800-1469251800@greaterfaithcc.org
SUMMARY:Route 66 Men's Fellowship Breakfast - Casco United Methodist Church - 9:30 am
DESCRIPTION:
URL:https://greaterfaithcc.org/event/route-66-mens-fellowship-breakfast-casco-united-methodist-church-930-am/
END:VEVENT
BEGIN:VEVENT
DTSTART;TZID=America/Detroit:20160720T143000
DTEND;TZID=America/Detroit:20160720T153000
DTSTAMP:20260425T143946
CREATED:20160609T061932Z
LAST-MODIFIED:20160609T061932Z
UID:223-1469025000-1469028600@greaterfaithcc.org
SUMMARY:Bible Study - One - Based on the "Woodlawn" movie - 6:30 pm - 7:30 pm
DESCRIPTION:
URL:https://greaterfaithcc.org/event/bible-study-one-based-on-the-woodlawn-movie-630-pm-730-pm-6/
END:VEVENT
BEGIN:VEVENT
DTSTART;TZID=America/Detroit:20160720T130000
DTEND;TZID=America/Detroit:20160720T141500
DTSTAMP:20260425T143946
CREATED:20160609T062307Z
LAST-MODIFIED:20160609T062307Z
UID:226-1469019600-1469024100@greaterfaithcc.org
SUMMARY:Women's Meeting - Greater Faith Community Church Fellowship Hall - 5pm - 6:15pm
DESCRIPTION:
URL:https://greaterfaithcc.org/event/womens-meeting-greater-faith-community-church-fellowship-hall-5pm-615pm/
END:VEVENT
BEGIN:VEVENT
DTSTART;TZID=America/Detroit:20160716T060000
DTEND;TZID=America/Detroit:20160716T080000
DTSTAMP:20260425T143946
CREATED:20160609T070159Z
LAST-MODIFIED:20160609T070159Z
UID:238-1468648800-1468656000@greaterfaithcc.org
SUMMARY:Victorian Ladies Day @ Kibbie Christian Reformed Church - 10 am - 12 pm
DESCRIPTION:Greater Faith women please bring desserts to pass
URL:https://greaterfaithcc.org/event/victorian-ladies-day-kibbie-christian-reformed-church-10-am-12-pm/
END:VEVENT
BEGIN:VEVENT
DTSTART;TZID=America/Detroit:20160713T143000
DTEND;TZID=America/Detroit:20160713T153000
DTSTAMP:20260425T143946
CREATED:20160609T061735Z
LAST-MODIFIED:20160609T061735Z
UID:222-1468420200-1468423800@greaterfaithcc.org
SUMMARY:Bible Study - One - Based on the "Woodlawn" movie - 6:30 pm - 7:30 pm
DESCRIPTION:
URL:https://greaterfaithcc.org/event/bible-study-one-based-on-the-woodlawn-movie-630-pm-730-pm-5/
END:VEVENT
BEGIN:VEVENT
DTSTART;TZID=America/Detroit:20160711T110000
DTEND;TZID=America/Detroit:20160711T120000
DTSTAMP:20260425T143946
CREATED:20160705T013134Z
LAST-MODIFIED:20160705T013134Z
UID:246-1468234800-1468238400@greaterfaithcc.org
SUMMARY:Food Pantry - @ Casco United Methodist Church - GFCC month to clean up
DESCRIPTION:
URL:https://greaterfaithcc.org/event/food-pantry-casco-united-methodist-church-gfcc-month-to-clean-up/
END:VEVENT
BEGIN:VEVENT
DTSTART;TZID=America/Detroit:20160710T093000
DTEND;TZID=America/Detroit:20160710T093000
DTSTAMP:20260425T143946
CREATED:20160609T050025Z
LAST-MODIFIED:20160705T012423Z
UID:240-1468143000-1468143000@greaterfaithcc.org
SUMMARY:Open House Celebration for Elizabeth Holden - immediately following morning service - GFCC fellowship hall
DESCRIPTION:
URL:https://greaterfaithcc.org/event/open-house-celebration-for-elizabeth-holden-immediately-following-morning-service-gfcc-fellowship-hall/
END:VEVENT
BEGIN:VEVENT
DTSTART;TZID=America/Detroit:20160710T083000
DTEND;TZID=America/Detroit:20160710T083000
DTSTAMP:20260425T143946
CREATED:20160609T062759Z
LAST-MODIFIED:20160705T012505Z
UID:229-1468139400-1468139400@greaterfaithcc.org
SUMMARY:Semi-annual Business meeting - POSTPONED until August 14
DESCRIPTION:
URL:https://greaterfaithcc.org/event/semi-annual-business-meeting-immediately-following-morning-service/
END:VEVENT
BEGIN:VEVENT
DTSTART;TZID=America/Detroit:20160710T060000
DTEND;TZID=America/Detroit:20160710T060000
DTSTAMP:20260425T143946
CREATED:20160609T062529Z
LAST-MODIFIED:20160705T012618Z
UID:227-1468130400-1468130400@greaterfaithcc.org
SUMMARY:Board of Trustee meeting - POSTPONED UNTIL AUGUST 14 @ 10 am
DESCRIPTION:
URL:https://greaterfaithcc.org/event/board-of-trustee-meeting-postponed-until-august-14-10-am/
END:VEVENT
BEGIN:VEVENT
DTSTART;TZID=America/Detroit:20160709T050000
DTEND;TZID=America/Detroit:20160709T050000
DTSTAMP:20260425T143946
CREATED:20160705T013313Z
LAST-MODIFIED:20160705T013313Z
UID:247-1468040400-1468040400@greaterfaithcc.org
SUMMARY:Route 66 Men's Fellowship - Rampin' for Jesus - Ramp Build
DESCRIPTION:Please Contact Chris Lanphear for details
URL:https://greaterfaithcc.org/event/route-66-mens-fellowship-rampin-for-jesus-ramp-build/
END:VEVENT
BEGIN:VEVENT
DTSTART;TZID=America/Detroit:20160706T143000
DTEND;TZID=America/Detroit:20160706T153000
DTSTAMP:20260425T143946
CREATED:20160609T061523Z
LAST-MODIFIED:20160609T061523Z
UID:221-1467815400-1467819000@greaterfaithcc.org
SUMMARY:Bible Study - One - Based on the "Woodlawn" movie - 6:30 pm - 7:30 pm
DESCRIPTION:
URL:https://greaterfaithcc.org/event/bible-study-one-based-on-the-woodlawn-movie-630-pm-730-pm-4/
END:VEVENT
END:VCALENDAR