BEGIN:VCALENDAR
VERSION:2.0
PRODID:-//Greater Faith Community Church - ECPv6.15.20//NONSGML v1.0//EN
CALSCALE:GREGORIAN
METHOD:PUBLISH
X-ORIGINAL-URL:https://greaterfaithcc.org
X-WR-CALDESC:Events for Greater Faith Community Church
REFRESH-INTERVAL;VALUE=DURATION:PT1H
X-Robots-Tag:noindex
X-PUBLISHED-TTL:PT1H
BEGIN:VTIMEZONE
TZID:America/Detroit
BEGIN:DAYLIGHT
TZOFFSETFROM:-0500
TZOFFSETTO:-0400
TZNAME:EDT
DTSTART:20210314T070000
END:DAYLIGHT
BEGIN:STANDARD
TZOFFSETFROM:-0400
TZOFFSETTO:-0500
TZNAME:EST
DTSTART:20211107T060000
END:STANDARD
BEGIN:DAYLIGHT
TZOFFSETFROM:-0500
TZOFFSETTO:-0400
TZNAME:EDT
DTSTART:20220313T070000
END:DAYLIGHT
BEGIN:STANDARD
TZOFFSETFROM:-0400
TZOFFSETTO:-0500
TZNAME:EST
DTSTART:20221106T060000
END:STANDARD
BEGIN:DAYLIGHT
TZOFFSETFROM:-0500
TZOFFSETTO:-0400
TZNAME:EDT
DTSTART:20230312T070000
END:DAYLIGHT
BEGIN:STANDARD
TZOFFSETFROM:-0400
TZOFFSETTO:-0500
TZNAME:EST
DTSTART:20231105T060000
END:STANDARD
BEGIN:DAYLIGHT
TZOFFSETFROM:-0500
TZOFFSETTO:-0400
TZNAME:EDT
DTSTART:20240310T070000
END:DAYLIGHT
BEGIN:STANDARD
TZOFFSETFROM:-0400
TZOFFSETTO:-0500
TZNAME:EST
DTSTART:20241103T060000
END:STANDARD
END:VTIMEZONE
BEGIN:VEVENT
DTSTART;TZID=America/Detroit:20230826T110000
DTEND;TZID=America/Detroit:20230826T123000
DTSTAMP:20260424T000715
CREATED:20230306T223556Z
LAST-MODIFIED:20230306T223556Z
UID:3115-1693047600-1693053000@greaterfaithcc.org
SUMMARY:Route 66 Fellowship - Prayer and Bible Study @ GFCC\, 11am - 12:30pm
DESCRIPTION:
URL:https://greaterfaithcc.org/event/route-66-fellowship-prayer-and-bible-study-gfcc-11am-1230pm-4/
END:VEVENT
BEGIN:VEVENT
DTSTART;TZID=America/Detroit:20230819T093000
DTEND;TZID=America/Detroit:20230819T093000
DTSTAMP:20260424T000715
CREATED:20230509T174002Z
LAST-MODIFIED:20230509T174002Z
UID:3254-1692437400-1692437400@greaterfaithcc.org
SUMMARY:Route 66 Men's Fellowship Breakfast @ GFCC - 9:30 am
DESCRIPTION:
URL:https://greaterfaithcc.org/event/route-66-mens-fellowship-breakfast-gfcc-930-am-5/
END:VEVENT
BEGIN:VEVENT
DTSTART;TZID=America/Detroit:20230722T110000
DTEND;TZID=America/Detroit:20230722T123000
DTSTAMP:20260424T000715
CREATED:20230306T223518Z
LAST-MODIFIED:20230306T223518Z
UID:3113-1690023600-1690029000@greaterfaithcc.org
SUMMARY:Route 66 Fellowship - Prayer and Bible Study @ GFCC\, 11am - 12:30pm
DESCRIPTION:
URL:https://greaterfaithcc.org/event/route-66-fellowship-prayer-and-bible-study-gfcc-11am-1230pm-3/
END:VEVENT
BEGIN:VEVENT
DTSTART;TZID=America/Detroit:20230715T093000
DTEND;TZID=America/Detroit:20230715T093000
DTSTAMP:20260424T000715
CREATED:20230509T173922Z
LAST-MODIFIED:20230509T173922Z
UID:3252-1689413400-1689413400@greaterfaithcc.org
SUMMARY:Route 66 Men's Fellowship Breakfast @ Kibbie C.R. Church - 9:30 am
DESCRIPTION:
URL:https://greaterfaithcc.org/event/route-66-mens-fellowship-breakfast-kibbie-c-r-church-930-am/
END:VEVENT
BEGIN:VEVENT
DTSTART;TZID=America/Detroit:20230624T110000
DTEND;TZID=America/Detroit:20230624T123000
DTSTAMP:20260424T000715
CREATED:20230306T223443Z
LAST-MODIFIED:20230306T223443Z
UID:3111-1687604400-1687609800@greaterfaithcc.org
SUMMARY:Route 66 Fellowship - Prayer and Bible Study @ GFCC\, 11am - 12:30pm
DESCRIPTION:
URL:https://greaterfaithcc.org/event/route-66-fellowship-prayer-and-bible-study-gfcc-11am-1230pm-2/
END:VEVENT
BEGIN:VEVENT
DTSTART;TZID=America/Detroit:20230617T093000
DTEND;TZID=America/Detroit:20230617T093000
DTSTAMP:20260424T000715
CREATED:20230509T173848Z
LAST-MODIFIED:20230509T173848Z
UID:3250-1686994200-1686994200@greaterfaithcc.org
SUMMARY:Route 66 Men's Fellowship Breakfast @ Casco UMC - 9:30 am
DESCRIPTION:
URL:https://greaterfaithcc.org/event/route-66-mens-fellowship-breakfast-casco-umc-930-am-4/
END:VEVENT
BEGIN:VEVENT
DTSTART;TZID=America/Detroit:20230527T110000
DTEND;TZID=America/Detroit:20230527T123000
DTSTAMP:20260424T000715
CREATED:20230306T223346Z
LAST-MODIFIED:20230306T223346Z
UID:3109-1685185200-1685190600@greaterfaithcc.org
SUMMARY:Route 66 Fellowship - Prayer and Bible Study @ GFCC\, 11am - 12:30pm
DESCRIPTION:
URL:https://greaterfaithcc.org/event/route-66-fellowship-prayer-and-bible-study-gfcc-11am-1230pm/
END:VEVENT
BEGIN:VEVENT
DTSTART;TZID=America/Detroit:20230520T093000
DTEND;TZID=America/Detroit:20230520T093000
DTSTAMP:20260424T000715
CREATED:20230306T223823Z
LAST-MODIFIED:20230306T223823Z
UID:3119-1684575000-1684575000@greaterfaithcc.org
SUMMARY:Route 66 Men's Fellowship Breakfast @ GFCC - 9:30 am
DESCRIPTION:
URL:https://greaterfaithcc.org/event/route-66-mens-fellowship-breakfast-gfcc-930-am-4/
END:VEVENT
BEGIN:VEVENT
DTSTART;VALUE=DATE:20230518
DTEND;VALUE=DATE:20230521
DTSTAMP:20260424T000715
CREATED:20230228T010926Z
LAST-MODIFIED:20230228T010926Z
UID:3084-1684368000-1684627199@greaterfaithcc.org
SUMMARY:PREACH SISTA! CONFERENCE @ Maranatha Bible & Conference Center\, Norton Shores\, MI.
DESCRIPTION:www.preachsista.org  \nREGISTRATION IS OPEN! Be sure to register BEFORE May 1st to receive last year’s prices.
URL:https://greaterfaithcc.org/event/preach-sista-conference-maranatha-bible-conference-center-norton-shores-mi/
END:VEVENT
BEGIN:VEVENT
DTSTART;TZID=America/Detroit:20230507T110000
DTEND;TZID=America/Detroit:20230507T123000
DTSTAMP:20260424T000715
CREATED:20230228T011307Z
LAST-MODIFIED:20230228T011307Z
UID:3086-1683457200-1683462600@greaterfaithcc.org
SUMMARY:Greater Faith Community Church 18th Church Anniversary
DESCRIPTION:
URL:https://greaterfaithcc.org/event/greater-faith-community-church-18th-church-anniversary/
END:VEVENT
BEGIN:VEVENT
DTSTART;TZID=America/Detroit:20230422T110000
DTEND;TZID=America/Detroit:20230422T130000
DTSTAMP:20260424T000715
CREATED:20230228T010521Z
LAST-MODIFIED:20230417T030132Z
UID:3081-1682161200-1682168400@greaterfaithcc.org
SUMMARY:Route 66 Women's Fellowship - SPRING TEA @ GFCC\, 11am - 1pm
DESCRIPTION:This Year’s Theme is: “Walking in HIS Light”. \nLadies\, we will be having a raffle drawing for a quilt lovingly made & donated by our Route 66 Quilters. $5.00 for 1 ticket; $20.00 for 5 tickets.
URL:https://greaterfaithcc.org/event/route-66-womens-fellowship-spring-tea-gfcc-11am-1pm/
END:VEVENT
BEGIN:VEVENT
DTSTART;TZID=America/Detroit:20230415T093000
DTEND;TZID=America/Detroit:20230415T093000
DTSTAMP:20260424T000715
CREATED:20230325T082907Z
LAST-MODIFIED:20230325T082907Z
UID:3138-1681551000-1681551000@greaterfaithcc.org
SUMMARY:Route 66 Men's Fellowship Breakfast @ Kibbie Christian Reformed - 9:30am
DESCRIPTION:
URL:https://greaterfaithcc.org/event/route-66-mens-fellowship-breakfast-kibbie-christian-reformed-930am/
END:VEVENT
BEGIN:VEVENT
DTSTART;VALUE=DATE:20230409
DTEND;VALUE=DATE:20230410
DTSTAMP:20260424T000715
CREATED:20221212T022420Z
LAST-MODIFIED:20221212T022420Z
UID:2926-1680998400-1681084799@greaterfaithcc.org
SUMMARY:EASTER Sunday
DESCRIPTION:
URL:https://greaterfaithcc.org/event/easter-sunday-2/
END:VEVENT
BEGIN:VEVENT
DTSTART;TZID=America/Detroit:20230408T110000
DTEND;TZID=America/Detroit:20230408T123000
DTSTAMP:20260424T000715
CREATED:20230325T082622Z
LAST-MODIFIED:20230325T082622Z
UID:3136-1680951600-1680957000@greaterfaithcc.org
SUMMARY:Route 66 Fellowship - Prayer and Bible Study @ GFCC\, 11am - 12:30pm - Weather Permitting
DESCRIPTION:
URL:https://greaterfaithcc.org/event/route-66-fellowship-prayer-and-bible-study-gfcc-11am-1230pm-weather-permitting-2/
END:VEVENT
BEGIN:VEVENT
DTSTART;TZID=America/Detroit:20230325T110000
DTEND;TZID=America/Detroit:20230325T123000
DTSTAMP:20260424T000715
CREATED:20230228T010123Z
LAST-MODIFIED:20230325T082505Z
UID:3079-1679742000-1679747400@greaterfaithcc.org
SUMMARY:POSTPONED to APRIL 8th - Route 66 Fellowship - Prayer and Bible Study @ GFCC\, 11am - 12:30pm - Weather Permitting
DESCRIPTION:Today’s Bible Study has been postponed to April 8th. We appologize for any inconveniences & hope you join us on April 8th. God Bless!
URL:https://greaterfaithcc.org/event/route-66-fellowship-prayer-and-bible-study-gfcc-11am-1230pm-weather-permitting/
END:VEVENT
BEGIN:VEVENT
DTSTART;TZID=America/Detroit:20230318T093000
DTEND;TZID=America/Detroit:20230318T093000
DTSTAMP:20260424T000715
CREATED:20221212T022241Z
LAST-MODIFIED:20221212T022241Z
UID:2924-1679131800-1679131800@greaterfaithcc.org
SUMMARY:Route 66 Men's Fellowship Breakfast @ Casco UMC - 9:30 am
DESCRIPTION:
URL:https://greaterfaithcc.org/event/route-66-mens-fellowship-breakfast-casco-umc-930-am-3/
END:VEVENT
BEGIN:VEVENT
DTSTART;TZID=America/Detroit:20230225T110000
DTEND;TZID=America/Detroit:20230225T123000
DTSTAMP:20260424T000715
CREATED:20230116T004644Z
LAST-MODIFIED:20230116T004644Z
UID:2991-1677322800-1677328200@greaterfaithcc.org
SUMMARY:Route 66 Fellowship Bible Study @ GFCC Fellowship Hall - 11am - 12:30pm - Weather Permitting.
DESCRIPTION:If weather is bad\, cancellation notice will be posted on Cosy\, WWMT ch.3\, and WOOD tv8.
URL:https://greaterfaithcc.org/event/route-66-fellowship-bible-study-gfcc-fellowship-hall-11am-1230pm-weather-permitting-2/
END:VEVENT
BEGIN:VEVENT
DTSTART;TZID=America/Detroit:20230218T093000
DTEND;TZID=America/Detroit:20230218T093000
DTSTAMP:20260424T000715
CREATED:20221212T022204Z
LAST-MODIFIED:20221212T022204Z
UID:2922-1676712600-1676712600@greaterfaithcc.org
SUMMARY:Route 66 Men's Fellowship Breakfast @ Greater Faith Community Church - 9:30 am
DESCRIPTION:
URL:https://greaterfaithcc.org/event/route-66-mens-fellowship-breakfast-greater-faith-community-church-930-am-4/
END:VEVENT
BEGIN:VEVENT
DTSTART;TZID=America/Detroit:20230128T110000
DTEND;TZID=America/Detroit:20230128T123000
DTSTAMP:20260424T000715
CREATED:20230116T004345Z
LAST-MODIFIED:20230126T190923Z
UID:2989-1674903600-1674909000@greaterfaithcc.org
SUMMARY:CANCELLED due to weather - Route 66 Fellowship Bible Study @ GFCC Fellowship Hall - 11am - 12:30pm. Weather Permitting.
DESCRIPTION:If weather is bad\, cancellation notice will be posted on Cosy\, WWMT ch.3\, and WOOD tv8.
URL:https://greaterfaithcc.org/event/route-66-fellowship-bible-study-gfcc-fellowship-hall-11am-1230pm-weather-permitting/
END:VEVENT
BEGIN:VEVENT
DTSTART;TZID=America/Detroit:20230121T093000
DTEND;TZID=America/Detroit:20230121T093000
DTSTAMP:20260424T000715
CREATED:20221212T022110Z
LAST-MODIFIED:20221212T022110Z
UID:2920-1674293400-1674293400@greaterfaithcc.org
SUMMARY:Route 66 Men's Fellowship Breakfast @ Kibbie Christian Reformed - 9:30 am
DESCRIPTION:
URL:https://greaterfaithcc.org/event/route-66-mens-fellowship-breakfast-kibbie-christian-reformed-930-am-4/
END:VEVENT
BEGIN:VEVENT
DTSTART;VALUE=DATE:20221225
DTEND;VALUE=DATE:20221226
DTSTAMP:20260424T000715
CREATED:20221224T163621Z
LAST-MODIFIED:20221224T163621Z
UID:2935-1671926400-1672012799@greaterfaithcc.org
SUMMARY:ALL SERVICES CANCELLED DUE TO WEATHER - We pray you have a BLESSED\, SAFE and MERRY CHRISTMAS!
DESCRIPTION:
URL:https://greaterfaithcc.org/event/all-services-cancelled-due-to-weather-we-pray-you-have-a-blessed-safe-and-merry-christmas/
END:VEVENT
BEGIN:VEVENT
DTSTART;TZID=America/Detroit:20221217T093000
DTEND;TZID=America/Detroit:20221217T093000
DTSTAMP:20260424T000715
CREATED:20220620T155741Z
LAST-MODIFIED:20221106T230151Z
UID:2561-1671269400-1671269400@greaterfaithcc.org
SUMMARY:Route 66 Men's Fellowship Breakfast @ Casco UMC - 9:30 am
DESCRIPTION:
URL:https://greaterfaithcc.org/event/route-66-mens-fellowship-breakfast-casco-umc-930-am-2/
END:VEVENT
BEGIN:VEVENT
DTSTART;TZID=America/Detroit:20221203T110000
DTEND;TZID=America/Detroit:20221203T130000
DTSTAMP:20260424T000715
CREATED:20221106T225743Z
LAST-MODIFIED:20221106T230639Z
UID:2857-1670065200-1670072400@greaterfaithcc.org
SUMMARY:R. 66 Women's Fellowship Christmas Party - @ GFCC - 11am - 1pm - PLEASE click here for more info.
DESCRIPTION:
URL:https://greaterfaithcc.org/event/route-66-womens-fellowship-christmas-party-gfcc-11am-1pm/
END:VEVENT
BEGIN:VEVENT
DTSTART;VALUE=DATE:20221124
DTEND;VALUE=DATE:20221125
DTSTAMP:20260424T000715
CREATED:20221002T192949Z
LAST-MODIFIED:20221002T193026Z
UID:2761-1669248000-1669334399@greaterfaithcc.org
SUMMARY:Have a BLESSED Thanksgiving wherever you may be.
DESCRIPTION:
URL:https://greaterfaithcc.org/event/have-a-blessed-thanksgiving-wherever-you-may-be/
END:VEVENT
BEGIN:VEVENT
DTSTART;TZID=America/Detroit:20221120T180000
DTEND;TZID=America/Detroit:20221120T180000
DTSTAMP:20260424T000715
CREATED:20221106T225602Z
LAST-MODIFIED:20221106T225602Z
UID:2855-1668967200-1668967200@greaterfaithcc.org
SUMMARY:Route 66 Thanksgiving Service - @ Kibbie Christian Reformed - 6:00pm -
DESCRIPTION:
URL:https://greaterfaithcc.org/event/route-66-thanksgiving-service-kibbie-christian-reformed-600pm/
END:VEVENT
BEGIN:VEVENT
DTSTART;TZID=America/Detroit:20221119T093000
DTEND;TZID=America/Detroit:20221119T093000
DTSTAMP:20260424T000715
CREATED:20220620T155640Z
LAST-MODIFIED:20221106T225446Z
UID:2559-1668850200-1668850200@greaterfaithcc.org
SUMMARY:Route 66 Men's Fellowship Breakfast @ GFCC - 9:30 am
DESCRIPTION:
URL:https://greaterfaithcc.org/event/route-66-mens-fellowship-breakfast-gfcc-930-am-3/
END:VEVENT
BEGIN:VEVENT
DTSTART;TZID=America/Detroit:20221029T110000
DTEND;TZID=America/Detroit:20221029T130000
DTSTAMP:20260424T000715
CREATED:20220821T222310Z
LAST-MODIFIED:20220919T165657Z
UID:2674-1667041200-1667048400@greaterfaithcc.org
SUMMARY:Route 66 Women's Fellowship Fall Conference @ GFCC\, 11:00am - 1:00pm
DESCRIPTION:Ladies\, gather your friends\, and join us for a wonderful day of food\, fellowship and fun in the Lord! All ladies welcome! PLEASE RSVP by October 16\, 2022
URL:https://greaterfaithcc.org/event/route-66-womens-fellowship-fall-conference-gfcc-1100am-100pm/
END:VEVENT
BEGIN:VEVENT
DTSTART;TZID=America/Detroit:20221016T100000
DTEND;TZID=America/Detroit:20221016T100000
DTSTAMP:20260424T000715
CREATED:20221002T192508Z
LAST-MODIFIED:20221002T192508Z
UID:2759-1665914400-1665914400@greaterfaithcc.org
SUMMARY:Pastor's Appreciation
DESCRIPTION:
URL:https://greaterfaithcc.org/event/pastors-appreciation-2/
END:VEVENT
BEGIN:VEVENT
DTSTART;TZID=America/Detroit:20221015T093000
DTEND;TZID=America/Detroit:20221015T093000
DTSTAMP:20260424T000715
CREATED:20220620T155008Z
LAST-MODIFIED:20220620T155008Z
UID:2557-1665826200-1665826200@greaterfaithcc.org
SUMMARY:Route 66 Men's Fellowship Breakfast @ Kibbie Christian Reformed - 9:30 am
DESCRIPTION:
URL:https://greaterfaithcc.org/event/route-66-mens-fellowship-breakfast-kibbie-christian-reformed-930-am-3/
END:VEVENT
BEGIN:VEVENT
DTSTART;TZID=America/Detroit:20220917T093000
DTEND;TZID=America/Detroit:20220917T093000
DTSTAMP:20260424T000715
CREATED:20220620T154911Z
LAST-MODIFIED:20220620T154911Z
UID:2555-1663407000-1663407000@greaterfaithcc.org
SUMMARY:Route 66 Men's Fellowship Breakfast @ Casco UMC - 9:30 am
DESCRIPTION:
URL:https://greaterfaithcc.org/event/route-66-mens-fellowship-breakfast-casco-umc-930-am/
END:VEVENT
END:VCALENDAR