BEGIN:VCALENDAR
VERSION:2.0
PRODID:-//Greater Faith Community Church - ECPv6.15.20//NONSGML v1.0//EN
CALSCALE:GREGORIAN
METHOD:PUBLISH
X-ORIGINAL-URL:https://greaterfaithcc.org
X-WR-CALDESC:Events for Greater Faith Community Church
REFRESH-INTERVAL;VALUE=DURATION:PT1H
X-Robots-Tag:noindex
X-PUBLISHED-TTL:PT1H
BEGIN:VTIMEZONE
TZID:America/Detroit
BEGIN:DAYLIGHT
TZOFFSETFROM:-0500
TZOFFSETTO:-0400
TZNAME:EDT
DTSTART:20190310T070000
END:DAYLIGHT
BEGIN:STANDARD
TZOFFSETFROM:-0400
TZOFFSETTO:-0500
TZNAME:EST
DTSTART:20191103T060000
END:STANDARD
BEGIN:DAYLIGHT
TZOFFSETFROM:-0500
TZOFFSETTO:-0400
TZNAME:EDT
DTSTART:20200308T070000
END:DAYLIGHT
BEGIN:STANDARD
TZOFFSETFROM:-0400
TZOFFSETTO:-0500
TZNAME:EST
DTSTART:20201101T060000
END:STANDARD
BEGIN:DAYLIGHT
TZOFFSETFROM:-0500
TZOFFSETTO:-0400
TZNAME:EDT
DTSTART:20210314T070000
END:DAYLIGHT
BEGIN:STANDARD
TZOFFSETFROM:-0400
TZOFFSETTO:-0500
TZNAME:EST
DTSTART:20211107T060000
END:STANDARD
BEGIN:DAYLIGHT
TZOFFSETFROM:-0500
TZOFFSETTO:-0400
TZNAME:EDT
DTSTART:20220313T070000
END:DAYLIGHT
BEGIN:STANDARD
TZOFFSETFROM:-0400
TZOFFSETTO:-0500
TZNAME:EST
DTSTART:20221106T060000
END:STANDARD
BEGIN:DAYLIGHT
TZOFFSETFROM:-0500
TZOFFSETTO:-0400
TZNAME:EDT
DTSTART:20230312T070000
END:DAYLIGHT
BEGIN:STANDARD
TZOFFSETFROM:-0400
TZOFFSETTO:-0500
TZNAME:EST
DTSTART:20231105T060000
END:STANDARD
END:VTIMEZONE
BEGIN:VEVENT
DTSTART;TZID=America/Detroit:20220820T100000
DTEND;TZID=America/Detroit:20220820T100000
DTSTAMP:20260424T060145
CREATED:20220730T185846Z
LAST-MODIFIED:20220730T190221Z
UID:2621-1660989600-1660989600@greaterfaithcc.org
SUMMARY:MEMORIAL for Herb Weber\, 10 AM @ Casco UMC - August 20\, 2022
DESCRIPTION:Route 66 Men’s Breakfast @ GFCC has been CANCELLED due to memorial service. 
URL:https://greaterfaithcc.org/event/memorial-for-herb-weber-10-am-casco-umc-august-20-2022/
END:VEVENT
BEGIN:VEVENT
DTSTART;TZID=America/Detroit:20220716T093000
DTEND;TZID=America/Detroit:20220716T093000
DTSTAMP:20260424T060145
CREATED:20220522T231150Z
LAST-MODIFIED:20220522T231150Z
UID:2516-1657963800-1657963800@greaterfaithcc.org
SUMMARY:Route 66 Men's Fellowship Breakfast @ Kibbie Christian Reformed - July 16\, 2022 @ 9:30 am
DESCRIPTION:
URL:https://greaterfaithcc.org/event/route-66-mens-fellowship-breakfast-kibbie-christian-reformed-july-16-2022-930-am/
END:VEVENT
BEGIN:VEVENT
DTSTART;TZID=America/Detroit:20220710T120000
DTEND;TZID=America/Detroit:20220710T120000
DTSTAMP:20260424T060145
CREATED:20220620T154404Z
LAST-MODIFIED:20220620T154404Z
UID:2553-1657454400-1657454400@greaterfaithcc.org
SUMMARY:Semi-Annual Business Meeting immediately following Morning Worship
DESCRIPTION:
URL:https://greaterfaithcc.org/event/semi-annual-business-meeting-immediately-following-morning-worship/
END:VEVENT
BEGIN:VEVENT
DTSTART;TZID=America/Detroit:20220618T093000
DTEND;TZID=America/Detroit:20220618T093000
DTSTAMP:20260424T060145
CREATED:20220522T231027Z
LAST-MODIFIED:20220522T231027Z
UID:2514-1655544600-1655544600@greaterfaithcc.org
SUMMARY:Route 66 Men's Fellowship Breakfast @ Casco UMC - June 18\, 2022 @ 9:30 am
DESCRIPTION:
URL:https://greaterfaithcc.org/event/route-66-mens-fellowship-breakfast-casco-umc-june-18-2022-930-am/
END:VEVENT
BEGIN:VEVENT
DTSTART;TZID=America/Detroit:20220521T093000
DTEND;TZID=America/Detroit:20220521T093000
DTSTAMP:20260424T060145
CREATED:20220410T195507Z
LAST-MODIFIED:20220410T195507Z
UID:2459-1653125400-1653125400@greaterfaithcc.org
SUMMARY:ROUTE 66 MEN'S FELLOWSHIP Breakfast @ GFCC - 9:30 am
DESCRIPTION:
URL:https://greaterfaithcc.org/event/route-66-mens-fellowship-breakfast-gfcc-930-am-2/
END:VEVENT
BEGIN:VEVENT
DTSTART;TZID=America/Detroit:20220519T180000
DTEND;TZID=America/Detroit:20220521T120000
DTSTAMP:20260424T060145
CREATED:20220410T195307Z
LAST-MODIFIED:20220410T195307Z
UID:2457-1652983200-1653134400@greaterfaithcc.org
SUMMARY:Preach Sista! 2022 Conference Theme "Pray Always" - Muskegon\, MI.
DESCRIPTION:@ Maranatha Bible & Conference Center\n4759 Lake Harbor Rd\nNorton Shores\, MI. 49441 \nhttps://www.preachsista.org/conference
URL:https://greaterfaithcc.org/event/preach-sista-2022-conference-theme-pray-always-muskegon-mi/
END:VEVENT
BEGIN:VEVENT
DTSTART;TZID=America/Detroit:20220501T110000
DTEND;TZID=America/Detroit:20220501T110000
DTSTAMP:20260424T060145
CREATED:20220417T193117Z
LAST-MODIFIED:20220417T193117Z
UID:2462-1651402800-1651402800@greaterfaithcc.org
SUMMARY:GFCC 17th Church Anniversary
DESCRIPTION:
URL:https://greaterfaithcc.org/event/gfcc-17th-church-anniversary/
END:VEVENT
BEGIN:VEVENT
DTSTART;TZID=America/Detroit:20220423T110000
DTEND;TZID=America/Detroit:20220423T130000
DTSTAMP:20260424T060145
CREATED:20220410T194534Z
LAST-MODIFIED:20220410T194711Z
UID:2453-1650711600-1650718800@greaterfaithcc.org
SUMMARY:ROUTE 66 WOMEN'S FELLOWSHIP Spring Fling Tea - 11:00 am - 1:00 pm @ GFCC Fellowship Hall
DESCRIPTION:PLEASE R.S.V.P. to 269-637-5697 by April 17\, 2022
URL:https://greaterfaithcc.org/event/route-66-womens-fellowship-spring-fling-tea-1100-am-100-pm-gfcc-fellowship-hall/
END:VEVENT
BEGIN:VEVENT
DTSTART;TZID=America/Detroit:20220417T110000
DTEND;TZID=America/Detroit:20220417T110000
DTSTAMP:20260424T060145
CREATED:20220410T194410Z
LAST-MODIFIED:20220410T194410Z
UID:2451-1650193200-1650193200@greaterfaithcc.org
SUMMARY:JOIN Us for EASTER Service - 11:00 am
DESCRIPTION:
URL:https://greaterfaithcc.org/event/join-us-for-easter-service-1100-am-2/
END:VEVENT
BEGIN:VEVENT
DTSTART;TZID=America/Detroit:20220416T093000
DTEND;TZID=America/Detroit:20220416T093000
DTSTAMP:20260424T060145
CREATED:20220410T194206Z
LAST-MODIFIED:20220410T194307Z
UID:2448-1650101400-1650101400@greaterfaithcc.org
SUMMARY:ROUTE 66 MEN'S FELLOWSHIP BREAKFAST - 9:30 am @ Kibbie Christian Reformed
DESCRIPTION:
URL:https://greaterfaithcc.org/event/join-us-for-easter-service-1100-am/
END:VEVENT
BEGIN:VEVENT
DTSTART;TZID=America/Detroit:20220319T093000
DTEND;TZID=America/Detroit:20220319T093000
DTSTAMP:20260424T060145
CREATED:20220117T000029Z
LAST-MODIFIED:20220117T000029Z
UID:2291-1647682200-1647682200@greaterfaithcc.org
SUMMARY:Route 66 Men's Fellowship Breakfast - @ Casco UMC- 9:30am
DESCRIPTION:
URL:https://greaterfaithcc.org/event/route-66-mens-fellowship-breakfast-casco-umc-930am/
END:VEVENT
BEGIN:VEVENT
DTSTART;TZID=America/Detroit:20220219T093000
DTEND;TZID=America/Detroit:20220219T093000
DTSTAMP:20260424T060145
CREATED:20220116T235828Z
LAST-MODIFIED:20220116T235929Z
UID:2287-1645263000-1645263000@greaterfaithcc.org
SUMMARY:Route 66 Men's Fellowship Breakfast - @ GFCC - 9:30am
DESCRIPTION:
URL:https://greaterfaithcc.org/event/route-66-mens-fellowship-breakfast-gffcc-930am/
END:VEVENT
BEGIN:VEVENT
DTSTART;TZID=America/Detroit:20220214T133000
DTEND;TZID=America/Detroit:20220214T133000
DTSTAMP:20260424T060145
CREATED:20220116T235729Z
LAST-MODIFIED:20220116T235729Z
UID:2285-1644845400-1644845400@greaterfaithcc.org
SUMMARY:Mobile Food Pantry - Casco UMC
DESCRIPTION:
URL:https://greaterfaithcc.org/event/mobile-food-pantry-casco-umc/
END:VEVENT
BEGIN:VEVENT
DTSTART;TZID=America/Detroit:20211211T093000
DTEND;TZID=America/Detroit:20211211T093000
DTSTAMP:20260424T060145
CREATED:20211205T234503Z
LAST-MODIFIED:20211205T234503Z
UID:2220-1639215000-1639215000@greaterfaithcc.org
SUMMARY:Route 66 Men's Fellowship Breakfast - Dec. 11\, 2021 - @ Casco UMC - 9:30 am
DESCRIPTION:
URL:https://greaterfaithcc.org/event/route-66-mens-fellowship-breakfast-dec-11-2021-casco-umc-930-am/
END:VEVENT
BEGIN:VEVENT
DTSTART;TZID=America/Detroit:20211121T183000
DTEND;TZID=America/Detroit:20211121T183000
DTSTAMP:20260424T060145
CREATED:20211018T021840Z
LAST-MODIFIED:20211018T021840Z
UID:2148-1637519400-1637519400@greaterfaithcc.org
SUMMARY:Route 66 Thanksgiving Service @ Casco UMC - 6:30pm
DESCRIPTION:
URL:https://greaterfaithcc.org/event/route-66-thanksgiving-service-casco-umc-630pm/
END:VEVENT
BEGIN:VEVENT
DTSTART;TZID=America/Detroit:20211113T093000
DTEND;TZID=America/Detroit:20211113T093000
DTSTAMP:20260424T060145
CREATED:20211025T014408Z
LAST-MODIFIED:20211025T014408Z
UID:2163-1636795800-1636795800@greaterfaithcc.org
SUMMARY:Route 66 Men's Fellowship Breakfast @ GFCC\, 9:30 am
DESCRIPTION:
URL:https://greaterfaithcc.org/event/route-66-mens-fellowship-breakfast-gfcc-930-am/
END:VEVENT
BEGIN:VEVENT
DTSTART;TZID=America/Detroit:20211113T090000
DTEND;TZID=America/Detroit:20211113T140000
DTSTAMP:20260424T060145
CREATED:20211025T014942Z
LAST-MODIFIED:20211025T014942Z
UID:2165-1636794000-1636812000@greaterfaithcc.org
SUMMARY:Fall Bazaar @ Ganges United Methodist Church
DESCRIPTION:2218 68th St. \nChristmas Treasures; Baked Goods; Crafts; Books; Outside Vendors \nLunch Served 11am – 1pm.
URL:https://greaterfaithcc.org/event/fall-bazaar-ganges-united-methodist-church/
END:VEVENT
BEGIN:VEVENT
DTSTART;TZID=America/Detroit:20211108T130000
DTEND;TZID=America/Detroit:20211108T150000
DTSTAMP:20260424T060145
CREATED:20211025T015314Z
LAST-MODIFIED:20211025T015314Z
UID:2167-1636376400-1636383600@greaterfaithcc.org
SUMMARY:Food Pantry @ Casco UMC
DESCRIPTION:
URL:https://greaterfaithcc.org/event/food-pantry-casco-umc/
END:VEVENT
BEGIN:VEVENT
DTSTART;TZID=America/Detroit:20211023T110000
DTEND;TZID=America/Detroit:20211023T130000
DTSTAMP:20260424T060145
CREATED:20210822T223355Z
LAST-MODIFIED:20210822T223422Z
UID:2079-1634986800-1634994000@greaterfaithcc.org
SUMMARY:ROUTE 66 WOMEN'S FELLOWSHIP FALL LUNCHEON - 11 am - 1 pm @ GFCC Fellowship Hall
DESCRIPTION:LADIES – OCTOBER 23\, 2021 – Route 66 Women’s Fellowship Luncheon 11am – 1pm @ Greater Faith Community Church Fellowship Hall.
URL:https://greaterfaithcc.org/event/route-66-womens-fellowship-fall-luncheon-11-am-1-pm-gfcc-fellowship-hall/
END:VEVENT
BEGIN:VEVENT
DTSTART;TZID=America/Detroit:20211017T110000
DTEND;TZID=America/Detroit:20211017T110000
DTSTAMP:20260424T060145
CREATED:20210920T165115Z
LAST-MODIFIED:20210920T165137Z
UID:2110-1634468400-1634468400@greaterfaithcc.org
SUMMARY:GFCC Pastor Appreciation - 11 am Morning Worship - Pastor Dave Meister guest speaker
DESCRIPTION:
URL:https://greaterfaithcc.org/event/pastor-appreciation-11-am-morning-worship-pastor-dave-meister-guest-speaker/
END:VEVENT
BEGIN:VEVENT
DTSTART;TZID=America/Detroit:20211016T093000
DTEND;TZID=America/Detroit:20211016T093000
DTSTAMP:20260424T060145
CREATED:20210912T224857Z
LAST-MODIFIED:20210912T224857Z
UID:2097-1634376600-1634376600@greaterfaithcc.org
SUMMARY:Route 66 Men's Fellowship Breakfast @ Kibbie Christian Reformed - 9:30 am
DESCRIPTION:
URL:https://greaterfaithcc.org/event/route-66-mens-fellowship-breakfast-kibbie-christian-reformed-930-am-2/
END:VEVENT
BEGIN:VEVENT
DTSTART;TZID=America/Detroit:20210925T183000
DTEND;TZID=America/Detroit:20210925T183000
DTSTAMP:20260424T060145
CREATED:20210822T222920Z
LAST-MODIFIED:20210822T222920Z
UID:2077-1632594600-1632594600@greaterfaithcc.org
SUMMARY:New Harvest Ministries Int’l "Fall Harvest Happenings" - begins at 6:30 pm. Please RSVP.
DESCRIPTION:New Harvest Ministries Int’l “Fall Harvest Happenings” – Saturday\, September 25\, 2021 @ City On A Hill Ministries\, 100 Pine Street\, Zeeland\, MI. 49464.  6:30 pm punch bowl\, light refreshments & fellowship; 7-8:30 pm will be a time to rejoice over the harvest that is taking place in the nations and advance the work of the ministry.  A free-will offering will follow.  PLEASE RSVP by phone or email – (616) 748-8888 – newharvestministriesintl@gmail.com
URL:https://greaterfaithcc.org/event/new-harvest-ministries-intl-fall-harvest-happenings-begins-at-630-pm-please-rsvp/
END:VEVENT
BEGIN:VEVENT
DTSTART;TZID=America/Detroit:20210918T093000
DTEND;TZID=America/Detroit:20210918T093000
DTSTAMP:20260424T060145
CREATED:20210822T222615Z
LAST-MODIFIED:20210822T222615Z
UID:2075-1631957400-1631957400@greaterfaithcc.org
SUMMARY:ROUTE 66 MEN'S FELLOWSHIP BREAKFAST - 9:30 am @ Casco UMC
DESCRIPTION:Men’s Breakfast @ Casco United Methodist Church – 9:30 am
URL:https://greaterfaithcc.org/event/route-66-mens-fellowship-breakfast-930-am-casco-umc/
END:VEVENT
BEGIN:VEVENT
DTSTART;TZID=America/Detroit:20201227T110000
DTEND;TZID=America/Detroit:20201227T110000
DTSTAMP:20260424T060145
CREATED:20200115T032237Z
LAST-MODIFIED:20200115T032237Z
UID:645-1609066800-1609066800@greaterfaithcc.org
SUMMARY:Watch Service
DESCRIPTION:
URL:https://greaterfaithcc.org/event/watch-service/
END:VEVENT
BEGIN:VEVENT
DTSTART;TZID=America/Detroit:20201214T150000
DTEND;TZID=America/Detroit:20201214T160000
DTSTAMP:20260424T060145
CREATED:20200115T032039Z
LAST-MODIFIED:20200115T032039Z
UID:643-1607958000-1607961600@greaterfaithcc.org
SUMMARY:Hungry for Christ Food Pantry - Casco UMC - 3 - 4 pm - Kibbie C. R. clean up
DESCRIPTION:
URL:https://greaterfaithcc.org/event/hungry-for-christ-food-pantry-casco-umc-3-4-pm-kibbie-c-r-clean-up/
END:VEVENT
BEGIN:VEVENT
DTSTART;TZID=America/Detroit:20201213T100000
DTEND;TZID=America/Detroit:20201213T100000
DTSTAMP:20260424T060145
CREATED:20200115T031840Z
LAST-MODIFIED:20200115T031840Z
UID:641-1607853600-1607853600@greaterfaithcc.org
SUMMARY:Business Meeting - 10 am
DESCRIPTION:
URL:https://greaterfaithcc.org/event/business-meeting-10-am-11/
END:VEVENT
BEGIN:VEVENT
DTSTART;TZID=America/Detroit:20201212T083000
DTEND;TZID=America/Detroit:20201212T120000
DTSTAMP:20260424T060145
CREATED:20200115T031744Z
LAST-MODIFIED:20200115T031744Z
UID:639-1607761800-1607774400@greaterfaithcc.org
SUMMARY:Christmas Help @ Kibbie C.R.
DESCRIPTION:
URL:https://greaterfaithcc.org/event/christmas-help-kibbie-c-r/
END:VEVENT
BEGIN:VEVENT
DTSTART;TZID=America/Detroit:20201122T180000
DTEND;TZID=America/Detroit:20201122T180000
DTSTAMP:20260424T060145
CREATED:20200115T031404Z
LAST-MODIFIED:20200115T031404Z
UID:635-1606068000-1606068000@greaterfaithcc.org
SUMMARY:Thanksgiving Service - Casco UMC  - 6 pm - Pastor Bernice Thomas speaking
DESCRIPTION:
URL:https://greaterfaithcc.org/event/thanksgiving-service-casco-umc-6-pm-pastor-bernice-thomas-speaking/
END:VEVENT
BEGIN:VEVENT
DTSTART;TZID=America/Detroit:20201109T150000
DTEND;TZID=America/Detroit:20201109T160000
DTSTAMP:20260424T060145
CREATED:20200115T031250Z
LAST-MODIFIED:20200115T031250Z
UID:633-1604934000-1604937600@greaterfaithcc.org
SUMMARY:Hungry for Christ Food Pantry - Casco UMC - 3 - 4 pm - Casco clean up
DESCRIPTION:
URL:https://greaterfaithcc.org/event/hungry-for-christ-food-pantry-casco-umc-3-4-pm-casco-clean-up/
END:VEVENT
BEGIN:VEVENT
DTSTART;TZID=America/Detroit:20201108T100000
DTEND;TZID=America/Detroit:20201108T100000
DTSTAMP:20260424T060145
CREATED:20200115T031116Z
LAST-MODIFIED:20200115T031116Z
UID:631-1604829600-1604829600@greaterfaithcc.org
SUMMARY:Business Meeting - 10 am
DESCRIPTION:
URL:https://greaterfaithcc.org/event/business-meeting-10-am-10/
END:VEVENT
END:VCALENDAR